BEGIN:VCALENDAR
VERSION:2.0
CALSCALE:GREGORIAN
PRODID:adamgibbons/ics
METHOD:PUBLISH
X-PUBLISHED-TTL:PT1H
BEGIN:VEVENT
UID:21152@offbeat.amsterdam
SUMMARY:mimika w/ do & etika
DTSTAMP:20260424T193513Z
DTSTART:20260530T160000Z
DESCRIPTION:we welcome mimika with do & etika all the way from Lithuania.\n
	mimika is a radioshow based in vilnius\, where the Radio Vilnius residents
	\nspecialise in sophisticated background & old Lithuanian gems. A place wh
	ere\npost-punk meets minimal wave\, kraut meets electronic\, psychedelic m
	eets romance\nand many more.\nclick here\n[https://live.tebi.co/ecom/reser
	vations/372646_b4046365a80e6c87cd119b473a5993ce1cf3580a6a524147fe6c013f9e8
	bf9b5]\nto reserve for dinner ♡
URL:https://offbeat.amsterdam/event/mimika-with-do-and-etika
GEO:52.3854298;4.9279805
LOCATION:murmur - Aambeeldstraat 60\, 1021 KB Amsterdam
STATUS:CONFIRMED
CATEGORIES:amsterdam-noord,dinner,electronics,hamerkwartier,kraut,punk
X-ALT-DESC;FMTTYPE=text/html:<p>we welcome mimika with do &amp; etika all t
	he way from Lithuania. <br> mimika is a radioshow based in vilnius, where 
	the Radio Vilnius residents specialise in sophisticated background &amp; o
	ld Lithuanian gems. A place where post-punk meets minimal wave, kraut meet
	s electronic, psychedelic meets romance and many more. <br> click <a targe
	t="_blank" href="https://live.tebi.co/ecom/reservations/372646_b4046365a80
	e6c87cd119b473a5993ce1cf3580a6a524147fe6c013f9e8bf9b5">here</a> to reserve
	 for dinner ♡</p>
BEGIN:VALARM
ACTION:DISPLAY
DESCRIPTION:mimika w/ do & etika
TRIGGER:-PT1H
END:VALARM
END:VEVENT
END:VCALENDAR
