BEGIN:VCALENDAR
VERSION:2.0
CALSCALE:GREGORIAN
PRODID:adamgibbons/ics
METHOD:PUBLISH
X-PUBLISHED-TTL:PT1H
BEGIN:VEVENT
UID:21075@offbeat.amsterdam
SUMMARY:mike.
DTSTAMP:20260421T224105Z
DTSTART:20260926T173000Z
DESCRIPTION:With over ten years of an independent career and a constantly e
	volving sound\nthat blends influences from a wide range of genres\, mike. 
	brings his unique vibe\nto Amsterdam (for the last time). With a loyal fan
	base\, a grassroots approach\,\nand a catalog that has already amassed bil
	lions of streams\, mike. has continued\nto reinvent himself time and time 
	again. This will be his final tour\, as he has\nannounced his upcoming ret
	irement\, so don’t miss it!
URL:https://offbeat.amsterdam/event/mike-1
GEO:52.3647777;4.881073026725959
LOCATION:Melkweg - Lijnbaansgracht 234A\, 1017 PH Amsterdam
STATUS:CONFIRMED
CATEGORIES:alternative hip-hop,amsterdam-centrum,concert,leidseplein,pop
X-ALT-DESC;FMTTYPE=text/html:<p>With over ten years of an independent caree
	r and a constantly evolving sound that blends influences from a wide range
	 of genres, mike. brings his unique vibe to Amsterdam (for the last time).
	 With a loyal fanbase, a grassroots approach, and a catalog that has alrea
	dy amassed billions of streams, mike. has continued to reinvent himself ti
	me and time again. This will be his final tour, as he has announced his up
	coming retirement, so don’t miss it!</p>
BEGIN:VALARM
ACTION:DISPLAY
DESCRIPTION:mike.
TRIGGER:-PT1H
END:VALARM
END:VEVENT
END:VCALENDAR
