BEGIN:VCALENDAR
VERSION:2.0
CALSCALE:GREGORIAN
PRODID:adamgibbons/ics
METHOD:PUBLISH
X-PUBLISHED-TTL:PT1H
BEGIN:VEVENT
UID:17218@offbeat.amsterdam
SUMMARY:mick_en_mariek (valentine's special)
DTSTAMP:20260419T140251Z
DTSTART:20260214T170000Z
DESCRIPTION:for this valentine's we have mick_en_mariek sharing a list of s
	ongs compiled\nfrom the moment they met\, mostly listened to in the bathtu
	b and now in the form\nof a warm hug in murmur. ⋆。 ̊❥ ̊。⋆\nclick here\n[ht
	tps://live.tebi.co/ecom/reservations/372646_b4046365a80e6c87cd119b473a5993
	ce1cf3580a6a524147fe6c013f9e8bf9b5]\nto reserve for valentine's <3
URL:https://offbeat.amsterdam/event/mick_en_mariek-this-is-a-valentines-spe
	cial
GEO:52.3854298;4.9279805
LOCATION:murmur - Aambeeldstraat 60\, 1021 KB Amsterdam
STATUS:CONFIRMED
CATEGORIES:amsterdam-noord,hamerkwartier
X-ALT-DESC;FMTTYPE=text/html:<p>for this valentine's we have mick_en_mariek
	 sharing a list of songs compiled from the moment they met, mostly listene
	d to in the bathtub and now in the form of a warm hug in murmur. ⋆。 ̊❥ ̊。⋆
	<br> click <a target="_blank" href="https://live.tebi.co/ecom/reservations
	/372646_b4046365a80e6c87cd119b473a5993ce1cf3580a6a524147fe6c013f9e8bf9b5">
	here</a> to reserve for valentine's &lt;3 </p>
BEGIN:VALARM
ACTION:DISPLAY
DESCRIPTION:mick_en_mariek (valentine's special)
TRIGGER:-PT1H
END:VALARM
END:VEVENT
END:VCALENDAR
