BEGIN:VCALENDAR
VERSION:2.0
CALSCALE:GREGORIAN
PRODID:adamgibbons/ics
METHOD:PUBLISH
X-PUBLISHED-TTL:PT1H
BEGIN:VEVENT
UID:20972@offbeat.amsterdam
SUMMARY:Mazey Haze + Giant Julie
DTSTAMP:20260420T180832Z
DTSTART:20260524T173000Z
DESCRIPTION:MAZEY HAZE\n\n‍\n\nNa drie EP’s\, support shows voor o.a. Men I T
	rust\, Paolo Nutini\, Feng Suave\,\nSpacey Jane en een succesvolle Europes
	e headline tour\, richt ze zich nu op nieuw\nmateriaal en live-experimente
	n.\n\n‍\n\nMazey Haze is een songwriter en producer die zich laat leiden doo
	r intuïtie\,\nwordt gedreven door emotie en gedragen door groove. Met een 
	scherp oor voor\ndetail en een diep vertrouwen in haar onderbewuste creëer
	t ze muziek die zowel\nintiem als groots aanvoelt — zorgvuldig opgebouwd e
	n toch moeiteloos stromend.\nZe mengt verleden klanken met tijdloze thema’
	s als eenzaamheid\, cynisme en\nkwetsbaarheid. Het resultaat is een melanc
	holisch geluid dat zowel emotioneel\nals groovy aanvoelt. Ze laat zich ins
	pireren door veel verschillende muzikanten\nwaaronder ABBA\, The Beach Boy
	s\, Giorgio Moroder\, Donny Hathaway\, Françoise\nHardy\, Nikki Giovanni e
	n Armando Trovajoli.\n\n‍\n\nINSTAGRAM [https://www.instagram.com/mazey_haze
	/] SPOTIFY\n[https://open.spotify.com/artist/4SGpTxsJIAuKXibC2ql1aL?si=2QK
	i329HT1GZOjk7BcVzCw]\n\n‍\n\n‍\n\n\nGIANT JULIE\n\n‍\n\nGiant Julie is een proje
	ct van zanger\, songwriter en producer Yulya Divakova.\nHen schrijft exper
	imentele popmuziek die even betoverend als verontrustend is\,\ngedragen do
	or hun rauwe\, scherpe stemgeluid dat de kern van de muziek vormt. Hun\nli
	veset is gebaseerd op sampling\, het loopen van hun stem\, en laat ruimte 
	voor\neen vloeiende overgang tussen klanken en nummers. Hen is geïnteresse
	erd in het\ncreëren van een performance-omgeving die comfort bevordert voo
	r alle deelnemers\,\nen in het normaliseren van het delen van werk in uitv
	oering\, wat kunst vaak is.\n\n‍\n\nINSTAGRAM [https://www.instagram.com/gia
	ntjulie/] SPOTIFY\n[https://open.spotify.com/artist/20npHsmynFR5Ty3qJeeIu0
	?si=56GrE2ywSfG-iuKdZ-RrvA]
URL:https://offbeat.amsterdam/event/mazey-haze-giant-julie
GEO:52.3528265;4.906568
LOCATION:Cinetol - Tolstraat 182\, 1074 VM Amsterdam
STATUS:CONFIRMED
CATEGORIES:amsterdam-zuid,de pijp,experimental,indie,live,music,performance
	,pop
X-ALT-DESC;FMTTYPE=text/html:<h2>MAZEY HAZE</h2><p>‍</p><p>Na drie EP’s, supp
	ort shows voor o.a. Men I Trust, Paolo Nutini, Feng Suave, Spacey Jane en 
	een succesvolle Europese headline tour, richt ze zich nu op nieuw materiaa
	l en live-experimenten.</p><p>‍</p><p>Mazey Haze is een songwriter en produc
	er die zich laat leiden door intuïtie, wordt gedreven door emotie en gedra
	gen door groove. Met een scherp oor voor detail en een diep vertrouwen in 
	haar onderbewuste creëert ze muziek die zowel intiem als groots aanvoelt —
	 zorgvuldig opgebouwd en toch moeiteloos stromend. Ze mengt verleden klank
	en met tijdloze thema’s als eenzaamheid, cynisme en kwetsbaarheid. Het res
	ultaat is een melancholisch geluid dat zowel emotioneel als groovy aanvoel
	t. Ze laat zich inspireren door veel verschillende muzikanten waaronder AB
	BA, The Beach Boys, Giorgio Moroder, Donny Hathaway, Françoise Hardy, Nikk
	i Giovanni en Armando Trovajoli.</p><p>‍</p><p><a href="https://www.instagra
	m.com/mazey_haze/">INSTAGRAM</a> <a href="https://open.spotify.com/artist/
	4SGpTxsJIAuKXibC2ql1aL?si=2QKi329HT1GZOjk7BcVzCw">SPOTIFY</a></p><p>‍</p><p>‍<
	/p><h2>GIANT JULIE </h2><p>‍</p><p>Giant Julie is een project van zanger, so
	ngwriter en producer Yulya Divakova. Hen schrijft experimentele popmuziek 
	die even betoverend als verontrustend is, gedragen door hun rauwe, scherpe
	 stemgeluid dat de kern van de muziek vormt. Hun liveset is gebaseerd op s
	ampling, het loopen van hun stem, en laat ruimte voor een vloeiende overga
	ng tussen klanken en nummers. Hen is geïnteresseerd in het creëren van een
	 performance-omgeving die comfort bevordert voor alle deelnemers, en in he
	t normaliseren van het delen van werk in uitvoering, wat kunst vaak is.</p
	><p>‍</p><p><a href="https://www.instagram.com/giantjulie/">INSTAGRAM</a> <a
	 href="https://open.spotify.com/artist/20npHsmynFR5Ty3qJeeIu0?si=56GrE2ywS
	fG-iuKdZ-RrvA">SPOTIFY </a></p>
BEGIN:VALARM
ACTION:DISPLAY
DESCRIPTION:Mazey Haze + Giant Julie
TRIGGER:-PT1H
END:VALARM
END:VEVENT
END:VCALENDAR
