BEGIN:VCALENDAR
VERSION:2.0
CALSCALE:GREGORIAN
PRODID:adamgibbons/ics
METHOD:PUBLISH
X-PUBLISHED-TTL:PT1H
BEGIN:VEVENT
UID:18238@offbeat.amsterdam
SUMMARY:‘MATTii PASSii’ #3 – 7090 (Koen Kaptijn & Nora Mulder) + Vera Morai
	s\, Giuseppe Doronzo & Wilbert de Joode + Akim Moiseenkov + Naald & Hamer 
	(Rianne Jasper en Christel van Schoonhoven)
DTSTAMP:20260421T103723Z
DTSTART:20260405T130000Z
DESCRIPTION:‘MATTII PASSII’ – EASTER MATINEE [THIRD EDITION] BY: 7090 (KOEN
	 KAPTIJN & NORA\nMULDER) + VERA MORAIS\, GIUSEPPE DORONZO & WILBERT DE JOO
	DE + AKIM MOISEENKOV +\nNAALD & HAMER (RIANNE JASPER EN CHRISTEL VAN SCHOO
	NHOVEN) + RON RUITEN\n\nPasen komt eraan: Tijd voor een PASSii met onze MA
	TTii : vrouwen van staal\, 4\nmuzikale etappes en een feestelijke versnape
	ring. 7090 trapt af.\n\nEaster is coming ....so it’s time for a Passii wit
	h our Mattii: steal women\, 4\nmusical acts and something festive to eat. 
	Kickoff by 7090\n\nWith: Vera Morais [https://www.instagram.com/verapmorai
	s/]\, Giuseppe Doronzo\n[https://www.giuseppedoronzo.com/] & Wilbert de Jo
	ode\n[https://doek.org/doek-artists/wilbert-de-joode/]\, Akim Moiseenkov\n
	[https://akimmusic.nl/]\, Ron Ruiten\, Naald & Hamer [https://naaldenhamer
	.nl/]\n(Rianne Jasper & Christel van Schoonhoven) and 7090: Koen Kaptijn &
	 Nora Mulder\n[https://www.zeventignegentig.nl]
URL:https://offbeat.amsterdam/event/mattii-passii-3-7090-koen-kaptijn-and-n
	ora-mulder-more-guests-tba
GEO:52.354338;4.8553367
LOCATION:OCCII - Amstelveenseweg 134\, 1075 XL Amsterdam
STATUS:CONFIRMED
CATEGORIES:amsterdam-zuid,easter matinee,improvisation,installations,perfor
	mances,schinkelbuurt
X-ALT-DESC;FMTTYPE=text/html:<h1>‘MATTii PASSii’ – EASTER MATiNEE [third Ed
	ition] by: 7090 (Koen Kaptijn &amp; Nora Mulder) + Vera Morais, Giuseppe D
	oronzo &amp; Wilbert de Joode + Akim Moiseenkov + Naald &amp; Hamer (Riann
	e Jasper en Christel van Schoonhoven) + Ron Ruiten</h1> <p>Pasen komt eraa
	n: Tijd voor een <em>PASSii</em> met onze <em>MATTii</em> : vrouwen van st
	aal, 4 muzikale etappes en een feestelijke versnapering. <strong>7090</str
	ong> trapt af.</p> <p>Easter is coming ....so it’s time for a <em>Passii</
	em> with our <em>Mattii</em>: steal women, 4 musical acts and something fe
	stive to eat. Kickoff by <strong>7090</strong></p> <p>With: <a target="_bl
	ank" href="https://www.instagram.com/verapmorais/"><strong>Vera Morais</st
	rong></a>, <a target="_blank" href="https://www.giuseppedoronzo.com/"><str
	ong>Giuseppe Doronzo</strong></a> &amp; <a target="_blank" href="https://d
	oek.org/doek-artists/wilbert-de-joode/"><strong>Wilbert de Joode</strong><
	/a>, <a target="_blank" href="https://akimmusic.nl/"><strong>Akim Moiseenk
	ov</strong></a>, <strong>Ron Ruiten</strong>, <a target="_blank" href="htt
	ps://naaldenhamer.nl/"><strong>Naald &amp; Hamer</strong></a> (<strong>Ria
	nne Jasper</strong> &amp; <strong>Christel van Schoonhoven</strong>) and <
	a target="_blank" href="https://www.zeventignegentig.nl"><strong>7090</str
	ong>: <strong>Koen Kaptijn &amp; Nora Mulder</strong></a></p>
BEGIN:VALARM
ACTION:DISPLAY
DESCRIPTION:‘MATTii PASSii’ #3 – 7090 (Koen Kaptijn & Nora Mulder) + Vera M
	orais, Giuseppe Doronzo & Wilbert de Joode + Akim Moiseenkov + Naald & Ham
	er (Rianne Jasper en Christel van Schoonhoven)
TRIGGER:-PT1H
END:VALARM
END:VEVENT
END:VCALENDAR
