BEGIN:VCALENDAR
VERSION:2.0
CALSCALE:GREGORIAN
PRODID:adamgibbons/ics
METHOD:PUBLISH
X-PUBLISHED-TTL:PT1H
BEGIN:VEVENT
UID:21170@offbeat.amsterdam
SUMMARY:Maceration Musicale
DTSTAMP:20260424T193508Z
DTSTART:20260517T130000Z
DESCRIPTION:The complexity of Wine to be heard and tasted!\n\nLaat je meevo
	eren naar het oudste\, en meest eigenwijze wijngebied van Frankrijk\nin ee
	n smaakpapillen prikkelende en oorstrelende reis. Thomas Brand is film- en
	\ntheatermaker maar ook wijnimporteur\, want wijn is een verhaal in een gl
	as.\n\nOp deze bijzondere avond komen twee passies samen\, die van wijn en
	 die van de\nmuziek! Tijdens deze muzikale wijn proeverij neemt Thomas je 
	mee naar de\nwijnstreek Gaillac. Een piepklein wijngebedje in het zuiden v
	an Frankrijk met\nwonderlijke druivensoorten zoals Lion de L’ioel\, Mauzac
	 en Braucol. Incidenteel\nhet oudste wijngebied van Frankrijk maar dat het
	 moest afleggen tegen de enorme\nproductie van Bordeaux. Maar juist hier s
	laat de Franse trots toe en staat er\neen nieuwe garde eigenwijze wijnmake
	rs op. Enfant-terribles die het roer van hun\nouders faliekant omgooien en
	 produceren met aandacht voor smaak en natuur.\n\nTerwijl Thomas het publi
	ek verschillende wijnen laat proeven\, rijk geïllustreerd\nmet verhalen en
	 anekdotes zet een groepje Splendormuzikanten de smaak en de\nverhalen om 
	in muziek en laat de wijn klinken\, geeft haar een stem! Zo ontstaat\ngedu
	rende de middag een spannende reis van geur\, smaak en klank die je meenee
	mt\nnaar een plek waar de Tarn diepe geulen door de rotsen trekt en de zon
	 heet op\nde heuvels brand.\n\nTijdens deze avond krijg je 6 wijnen te pro
	even.\n\nMocht je de wijnen lekker vinden kun je ze na afloop nabestellen 
	via de website\nvan Comme Tu Veux [https://commetuveux.nl/] van Thomas die
	 de bijzondere wijnen\nimporteert en verkoopt\, én Nederlanders via wijn- 
	en kunstreizen naar het hart\nvan de wijnstreek brengt.\n\n==Bios==\nThoma
	s Brand is film- en theatermaker die graag werkt aan immersieve projecten\
	,\nkunst waar je in kan. Maar hij is ook wijnimporteur. En dat is niet zo 
	gek. Wijn\nis een verhaal in een glas. Het vertelt van grond\, wind en reg
	en\, van zon en\nstenen\, en van cultuur en de mensen die het maken. Bloed
	\, en zweet van de\nwijnboer\, tradities en het breken ervan\, en van heel
	 veel liefde. Wijn is de\nkunst van het balanceren van elementen en als wi
	j het drinken... worden we even\ndeel van die balans en worden we meegenom
	en op een reis. Kunst in een glas.\n\n**Anat Spiegel **(Voice) is vocalist
	 and composer whose work stems from a vocal\nperspective and focuses on th
	e endless expressions of the human voice. In the\njuxtaposition of jazz\, 
	theater and contemporary classical music\, Spiegel's\ncompositions conside
	r the cultural gravity of songs and the connection between\nwritten langua
	ge and it’s sounding expression.\nThomas Myrmel (Trombone) is a composer\,
	 performer and multifaceted artist\,\nweaving the notions of social change
	\, craftsmanship and creative expression into\nevery aspect of his practic
	e.\nTies Mellema (Saxophone) Although Ties Mellema is undisputedly a virtu
	oso on the\nsaxophone\, he sees himself first and foremost as a musician. 
	His craft is\nexpressed in his continuous exploration of the outer limits 
	of music.\nMichael Moore (Clarinet) is an American jazz musician who has l
	ived in the\nNetherlands since 1982\, having played in a variety of musica
	l contexts\,\nespecially those in support of theatre and dance groups as w
	ell as Misha\nMengelberg's Instant Composers Pool & Georg Gräwe's Grubenkl
	ang Orchester.\nJonathan Nagel (Contrabass) is driven by a craving to conv
	ey emotions and tell\nstories. Continuously seeking to abandon the borders
	 between genres\, striving to\nmerely rely on whatever means it takes to c
	reate a certain image or feeling.\nAlongside Contrabass\, Nagel's artistic
	 practice includes music\, poetry\,\nimprovisation\, physical theater\, pe
	rformance art and dance.\nFelix Schlarmann (drums) can be found in a wide 
	range of musical settings\,\nperforming with renown groups in the Dutch an
	d European scene. His most recent\nproject is Tree House\, a 7-piece ensem
	ble that has officially been premiered\nduring the 2023 edition of the Ger
	man Jazzahead.\n\nAnat Spiegel (voice)\,\nThomas Myrmel (tbn)\,\nMichael M
	oore (cl)\,\nTies Mellema (sax)\,\nJonathan Nagel (cb)\,\nFelix Schlarmann
	 (drums)
URL:https://offbeat.amsterdam/event/maceration-musicale
GEO:52.3699078;4.9032848
LOCATION:Splendor - Nieuwe Uilenburgerstraat 116\, 1011 LX Amsterdam
STATUS:CONFIRMED
CATEGORIES:amsterdam-centrum,dance,improv,jazz,music,nieuwmarkt/lastage,per
	formance,poetry,stories,theater
X-ALT-DESC;FMTTYPE=text/html:The complexity of Wine to be heard and tasted!
	 <p>Laat je meevoeren naar het oudste, en meest eigenwijze wijngebied van 
	Frankrijk in een smaakpapillen prikkelende en oorstrelende reis. Thomas Br
	and is film- en theatermaker maar ook wijnimporteur, want wijn is een verh
	aal in een glas.</p><p>Op deze bijzondere avond komen twee passies samen, 
	die van wijn en die van de muziek! Tijdens deze muzikale wijn proeverij ne
	emt Thomas je mee naar de wijnstreek Gaillac. Een piepklein wijngebedje in
	 het zuiden van Frankrijk met wonderlijke druivensoorten zoals Lion de L’i
	oel, Mauzac en Braucol. Incidenteel het oudste wijngebied van Frankrijk ma
	ar dat het moest afleggen tegen de enorme productie van Bordeaux. Maar jui
	st hier slaat de Franse trots toe en staat er een nieuwe garde eigenwijze 
	wijnmakers op. Enfant-terribles die het roer van hun ouders faliekant omgo
	oien en produceren met aandacht voor smaak en natuur.</p><p>Terwijl Thomas
	 het publiek verschillende wijnen laat proeven, rijk geïllustreerd met ver
	halen en anekdotes zet een groepje Splendormuzikanten de smaak en de verha
	len om in muziek en laat de wijn klinken, geeft haar een stem! Zo ontstaat
	 gedurende de middag een spannende reis van geur, smaak en klank die je me
	eneemt naar een plek waar de Tarn diepe geulen door de rotsen trekt en de 
	zon heet op de heuvels brand.</p><p>Tijdens deze avond krijg je 6 wijnen t
	e proeven.</p><p>Mocht je de wijnen lekker vinden kun je ze na afloop nabe
	stellen via de website van <a href="https://commetuveux.nl/" target="_blan
	k">Comme Tu Veux</a> van Thomas die de bijzondere wijnen importeert en ver
	koopt, én Nederlanders via wijn- en kunstreizen naar het hart van de wijns
	treek brengt.</p><p>==Bios==<br><strong>Thomas Brand</strong> is film- en 
	theatermaker die graag werkt aan immersieve projecten, kunst waar je in ka
	n. Maar hij is ook wijnimporteur. En dat is niet zo gek. Wijn is een verha
	al in een glas. Het vertelt van grond, wind en regen, van zon en stenen, e
	n van cultuur en de mensen die het maken. Bloed, en zweet van de wijnboer,
	 tradities en het breken ervan, en van heel veel liefde. Wijn is de kunst 
	van het balanceren van elementen en als wij het drinken... worden we even 
	deel van die balans en worden we meegenomen op een reis. Kunst in een glas
	.</p><p>**Anat Spiegel **(Voice) is vocalist and composer whose work stems
	 from a vocal perspective and focuses on the endless expressions of the hu
	man voice. In the juxtaposition of jazz, theater and contemporary classica
	l music, Spiegel's compositions consider the cultural gravity of songs and
	 the connection between written language and it’s sounding expression.<br>
	<strong>Thomas Myrmel</strong> (Trombone) is a composer, performer and mul
	tifaceted artist, weaving the notions of social change, craftsmanship and 
	creative expression into every aspect of his practice.<br><strong>Ties Mel
	lema</strong> (Saxophone) Although Ties Mellema is undisputedly a virtuoso
	 on the saxophone, he sees himself first and foremost as a musician. His c
	raft is expressed in his continuous exploration of the outer limits of mus
	ic.<br><strong>Michael Moore</strong> (Clarinet) is an American jazz music
	ian who has lived in the Netherlands since 1982, having played in a variet
	y of musical contexts, especially those in support of theatre and dance gr
	oups as well as Misha Mengelberg's Instant Composers Pool &amp; Georg Gräw
	e's Grubenklang Orchester.<br><strong>Jonathan Nagel</strong> (Contrabass)
	 is driven by a craving to convey emotions and tell stories. Continuously 
	seeking to abandon the borders between genres, striving to merely rely on 
	whatever means it takes to create a certain image or feeling. Alongside Co
	ntrabass, Nagel's artistic practice includes music, poetry, improvisation,
	 physical theater, performance art and dance.<br><strong>Felix Schlarmann<
	/strong> (drums) can be found in a wide range of musical settings, perform
	ing with renown groups in the Dutch and European scene. His most recent pr
	oject is Tree House, a 7-piece ensemble that has officially been premiered
	 during the 2023 edition of the German Jazzahead.</p><p><strong>Anat Spieg
	el</strong> (voice),<br><strong>Thomas Myrmel</strong> (tbn),<br><strong>M
	ichael Moore</strong> (cl),<br><strong>Ties Mellema</strong> (sax),<br><st
	rong>Jonathan Nagel</strong> (cb),<br><strong>Felix Schlarmann</strong> (d
	rums)</p>
BEGIN:VALARM
ACTION:DISPLAY
DESCRIPTION:Maceration Musicale
TRIGGER:-PT1H
END:VALARM
END:VEVENT
END:VCALENDAR
