BEGIN:VCALENDAR
VERSION:2.0
CALSCALE:GREGORIAN
PRODID:adamgibbons/ics
METHOD:PUBLISH
X-PUBLISHED-TTL:PT1H
BEGIN:VEVENT
UID:20960@offbeat.amsterdam
SUMMARY:Maar wat er ook gebeurt er klinkt muziek
DTSTAMP:20260419T191002Z
DTSTART:20261204T191500Z
DESCRIPTION:Reprise van de voorstelling van Olga Zuiderhoek en Gerard Bouwh
	uis\n\nMaar wat er ook gebeurt er klinkt muziek is het refrein van ‘Winter
	tenen\, luizen\nen eczeem\, de typhus en de kanker en de griep’ van Ischa 
	Meijer\, Olga’s\nlievelingslied. Het werd de titel van dit programma van O
	lga Zuiderhoek over\nmuziek uit haar 20e eeuw en ze wilde Gerard Bouwhuis 
	voor de muziek\, waar het om\ndraait: Bartok\, Antheil\, Andriessen\, Breu
	ker\, Gershwin\, Johnny & Jones en\nnatuurlijk Stravinsky.\n\nZe laten de 
	doden meespelen: Gerard speelt met Breuker\, Olga zingt met Ischa.\n\nTota
	altheater op 5 vierkante meter: tekst\, muziek en beeld\, vaak grappig\, s
	oms\nwoestmakend droevig\, maar hoe dan ook: er klinkt muziek!\nGerard spe
	elt en Olga vertelt waarom. ‘De 20e eeuw telt 2 wereldoorlogen\, ik heb\nz
	e beide misgelopen\, hoeveel mazzel kan je hebben.’\n\nTekst\, spel: Olga 
	Zuiderhoek [https://olgazuiderhoek.nl]\nPiano: Gerard Bouwhuis\nGeluid en 
	viool: Heleen Hulst\nVideo\, beeld: Peter Claassen/Gerard Bouwhuis\nRegie:
	 Kees Prins\n\nLees hier\n[https://www.scenes.nu/recensies/zuiderhoek-en-b
	ouwhuis-tonen-de-kracht-van-muziek]\nde recensie in Scenes.\n\nAttentie:\n
	Op dringend verzoek van de spelers: neem geen kinderen mee. De voorstellin
	g is\nniet geschikt is voor hen.\n\nFoto's: Annaleen Louwes
URL:https://offbeat.amsterdam/event/maar-wat-er-ook-gebeurt-er-klinkt-muzie
	k-1
GEO:52.3699078;4.9032848
LOCATION:Splendor - Nieuwe Uilenburgerstraat 116\, 1011 LX Amsterdam
STATUS:CONFIRMED
CATEGORIES:amsterdam-centrum,music,nieuwmarkt/lastage
X-ALT-DESC;FMTTYPE=text/html:Reprise van de voorstelling van Olga Zuiderhoe
	k en Gerard Bouwhuis <p><em>Maar wat er ook gebeurt er klinkt muziek</em> 
	is het refrein van ‘Wintertenen, luizen en eczeem, de typhus en de kanker 
	en de griep’ van Ischa Meijer, Olga’s lievelingslied. Het werd de titel va
	n dit programma van Olga Zuiderhoek over muziek uit haar 20e eeuw en ze wi
	lde Gerard Bouwhuis voor de muziek, waar het om draait: Bartok, Antheil, A
	ndriessen, Breuker, Gershwin, Johnny &amp; Jones en natuurlijk Stravinsky.
	</p><p>Ze laten de doden meespelen: Gerard speelt met Breuker, Olga zingt 
	met Ischa.</p><p>Totaaltheater op 5 vierkante meter: tekst, muziek en beel
	d, vaak grappig, soms woestmakend droevig, maar hoe dan ook: er klinkt muz
	iek!<br>Gerard speelt en Olga vertelt waarom. ‘De 20e eeuw telt 2 wereldoo
	rlogen, ik heb ze beide misgelopen, hoeveel mazzel kan je hebben.’</p><p>T
	ekst, spel: <strong><a href="https://olgazuiderhoek.nl" target="_blank">Ol
	ga Zuiderhoek</a></strong><br>Piano: <strong>Gerard Bouwhuis</strong><br>G
	eluid en viool: <strong>Heleen Hulst</strong><br>Video, beeld: <strong>Pet
	er Claassen/Gerard Bouwhuis</strong><br>Regie: <strong>Kees Prins</strong>
	</p><p>Lees <a href="https://www.scenes.nu/recensies/zuiderhoek-en-bouwhui
	s-tonen-de-kracht-van-muziek" target="_blank">hier</a> de recensie in Scen
	es.</p><p><em><strong>Attentie</strong>:<br>Op dringend verzoek van de spe
	lers: neem geen kinderen mee. De voorstelling is niet geschikt is voor hen
	.</em></p><p>Foto's: Annaleen Louwes</p>
BEGIN:VALARM
ACTION:DISPLAY
DESCRIPTION:Maar wat er ook gebeurt er klinkt muziek
TRIGGER:-PT1H
END:VALARM
END:VEVENT
END:VCALENDAR
