BEGIN:VCALENDAR
VERSION:2.0
CALSCALE:GREGORIAN
PRODID:adamgibbons/ics
METHOD:PUBLISH
X-PUBLISHED-TTL:PT1H
BEGIN:VEVENT
UID:21146@offbeat.amsterdam
SUMMARY:LIVE RESORT @ VOLKSHOTEL | crybabies + maha + my purse
DTSTAMP:20260424T194236Z
DTSTART:20260503T130000Z
DESCRIPTION:Op zondag 3 mei wordt het Volkshotel omgetoverd tot een doolhof
	 van concerten\nvan opkomende bands en live acts\, verspreid over de negen
	 verdiepingen van het\nhotel. Indiestad\, Cinetol\, Geertruida\, Conservat
	orium Amsterdam\, Broedplaats VKG\nen de Nieuwe Anita hebben samen een pro
	gramma samengesteld. Maak je klaar om\ndoor het hotel te dwalen\, op bijna
	 elke hoek een podium te vinden en je nieuwe\nfavoriete artiesten te ontde
	kken.\n\n‍\n\nHieronder onze bijdrage aan de line up.\n\n‍\n\nVOLKSHOTEL [http
	s://www.volkshotel.nl/en/agenda/volkshotel/live-resort-2026/]\n\n‍\n\n\nCRYB
	ABIES\n\n‍\n\nVraag je je ooit af hoe een onweersbui klinkt op een perfect z
	onnige dag? Deze\nTilburgse crew heeft het uitgevogeld. Crybabies is niet 
	bang om een traantje te\nlaten en bewijst dat een beetje emotie tonen in e
	en harde wereld echt lef\nvereist. Ze brengen zware beats\, gruizige gitar
	en en pure riot grrrl-woede\nrechtstreeks naar het podium. Het is knallend
	e bubble grunge met een knipoog\, en\nhet komt hard binnen.\n\n‍\n\nINSTAGRA
	M [https://www.instagram.com/bunchofcrybabies/] SPOTIFY\n[https://open.spo
	tify.com/artist/2acTwdggTAVdQELkyHdUK8?si=vvBoyunLTnm_bZlAA6XDjA]\n\n‍\n\n\n
	MAHA\n\n‍\n\nMAHA speelt niet alleen punk\; ze leeft het. Dit Soedanese icoo
	n gebruikt haar\nDIY Mahazine en scherpe post-punktracks als pure verzetsm
	iddelen. Ze pakt zware\nrealiteiten aan met een energieke\, rebelse houdin
	g\, en haar debuutsingle "No\nProfit" hekelt hebzucht en de oorlogsindustr
	ie. Ze stond al op het podium met\nPussy Riot en weigert zich klein te mak
	en. MAHA bestaat luid en op haar eigen\nvoorwaarden.\n\n‍\n\nINSTAGRAM [http
	s://www.instagram.com/mahaeljak/] SPOTIFY\n[https://open.spotify.com/artis
	t/5gPTyE1PeMWs2oVCtwY4G4?si=8IvZ4vxCTcGUZi_fJYBDlQ]\n\n‍\n\n\nMY PURSE\n\n‍\n\
	nJe haalt zwaargewichten uit drie verschillende bands bij elkaar en je kri
	jgt een\nkrachtpatser genaamd: My Purse. Met leden van Yodel Queen\, Cardi
	gan Inn en\nHondenfokker is My Purse strikt “anti-sauce”\, wat betekent: g
	een modderige\ngeluidsmuur om je achter te verschuilen. In plaats daarvan 
	brengen ze scherpe\,\nin elkaar grijpende gitaren en dominante baslijnen d
	ie echt ruimte laten voor\nechte harmonieën. Het is een strakke\, felle al
	liantie.\n\n‍\n\nINSTAGRAM [https://www.instagram.com/its_mypurse/]  \n\n‍
URL:https://offbeat.amsterdam/event/live-resort-volkshotel-or-crybabies-mah
	a-my-purse
GEO:52.3528265;4.906568
LOCATION:Cinetol - Tolstraat 182\, 1074 VM Amsterdam
STATUS:CONFIRMED
CATEGORIES:amsterdam-zuid,de pijp,live,postpunk,punk
X-ALT-DESC;FMTTYPE=text/html:<p>Op zondag 3 mei wordt het Volkshotel omgeto
	verd tot een doolhof van concerten van opkomende bands en live acts, versp
	reid over de negen verdiepingen van het hotel. Indiestad, Cinetol, Geertru
	ida, Conservatorium Amsterdam, Broedplaats VKG en de Nieuwe Anita hebben s
	amen een programma samengesteld. Maak je klaar om door het hotel te dwalen
	, op bijna elke hoek een podium te vinden en je nieuwe favoriete artiesten
	 te ontdekken. </p><p>‍</p><p>Hieronder onze bijdrage aan de line up. </p><p
	>‍</p><p><a href="https://www.volkshotel.nl/en/agenda/volkshotel/live-resort
	-2026/">VOLKSHOTEL</a></p><p>‍</p><h2>CRYBABIES </h2><p>‍</p><p>Vraag je je oo
	it af hoe een onweersbui klinkt op een perfect zonnige dag? Deze Tilburgse
	 crew heeft het uitgevogeld. Crybabies is niet bang om een traantje te lat
	en en bewijst dat een beetje emotie tonen in een harde wereld echt lef ver
	eist. Ze brengen zware beats, gruizige gitaren en pure riot grrrl-woede re
	chtstreeks naar het podium. Het is knallende bubble grunge met een knipoog
	, en het komt hard binnen.</p><p>‍</p><p><a href="https://www.instagram.com/
	bunchofcrybabies/">INSTAGRAM</a> <a href="https://open.spotify.com/artist/
	2acTwdggTAVdQELkyHdUK8?si=vvBoyunLTnm_bZlAA6XDjA">SPOTIFY</a> </p><p>‍</p><h
	2>MAHA</h2><p>‍</p><p>MAHA&nbsp;speelt niet alleen punk; ze leeft het. Dit S
	oedanese icoon gebruikt haar DIY Mahazine en scherpe post-punktracks als p
	ure verzetsmiddelen. Ze pakt zware realiteiten aan met een energieke, rebe
	lse houding, en haar debuutsingle "No Profit" hekelt hebzucht en de oorlog
	sindustrie. Ze stond al op het podium met Pussy Riot en weigert zich klein
	 te maken. MAHA bestaat luid en op haar eigen voorwaarden.</p><p>‍</p><p><a 
	href="https://www.instagram.com/mahaeljak/">INSTAGRAM</a> <a href="https:/
	/open.spotify.com/artist/5gPTyE1PeMWs2oVCtwY4G4?si=8IvZ4vxCTcGUZi_fJYBDlQ"
	>SPOTIFY</a> </p><p>‍</p><h2>MY PURSE </h2><p>‍</p><p>Je haalt zwaargewichten 
	uit drie verschillende bands bij elkaar en je krijgt een krachtpatser gena
	amd: My Purse. Met leden van Yodel Queen, Cardigan Inn en Hondenfokker is 
	My Purse strikt “anti-sauce”, wat betekent: geen modderige geluidsmuur om 
	je achter te verschuilen. In plaats daarvan brengen ze scherpe, in elkaar 
	grijpende gitaren en dominante baslijnen die echt ruimte laten voor echte 
	harmonieën. Het is een strakke, felle alliantie.</p><p>‍</p><p><a href="http
	s://www.instagram.com/its_mypurse/">INSTAGRAM</a>&nbsp;&nbsp;</p><p>‍</p>
BEGIN:VALARM
ACTION:DISPLAY
DESCRIPTION:LIVE RESORT @ VOLKSHOTEL | crybabies + maha + my purse
TRIGGER:-PT1H
END:VALARM
END:VEVENT
END:VCALENDAR
