BEGIN:VCALENDAR
VERSION:2.0
CALSCALE:GREGORIAN
PRODID:adamgibbons/ics
METHOD:PUBLISH
X-PUBLISHED-TTL:PT1H
BEGIN:VEVENT
UID:21049@offbeat.amsterdam
SUMMARY:Leenalchi
DTSTAMP:20260421T183240Z
DTSTART:20261112T210000Z
DESCRIPTION:Enigmatic songs by a Korean indie band
URL:https://offbeat.amsterdam/event/leenalchi
GEO:52.36215535;4.883782439016489
LOCATION:Paradiso - Weteringschans 6\, 1017 SG Amsterdam
STATUS:CONFIRMED
CATEGORIES:amsterdam-centrum,indie,leidseplein
X-ALT-DESC;FMTTYPE=text/html:Enigmatic songs by a Korean indie band
BEGIN:VALARM
ACTION:DISPLAY
DESCRIPTION:Leenalchi
TRIGGER:-PT1H
END:VALARM
END:VEVENT
END:VCALENDAR
