BEGIN:VCALENDAR
VERSION:2.0
CALSCALE:GREGORIAN
PRODID:adamgibbons/ics
METHOD:PUBLISH
X-PUBLISHED-TTL:PT1H
BEGIN:VEVENT
UID:21222@offbeat.amsterdam
SUMMARY:LAIDBACK LIVE | STARDOG
DTSTAMP:20260425T175359Z
DTSTART:20260516T140000Z
DTEND:20260516T150000Z
DESCRIPTION:Every Sunday from 16:00 to 17:00 at Pllek: Laidback Live. The i
	deal chill\nsession with live music to wrap up your weekend. Live right in
	 our restaurant –\nso free entry! – while you sip your drink.\n\nAfter a m
	ove across the world\, LA native Austin Clarizio wrote and recorded a\ncon
	cept album about the phases of grieving following a traumatic breakup. Mer
	e\ndays after completing a rough mix of the album\, he met a stranger in t
	he\nVondelpark\, who happened to be a keyboard player\, with a roommate wh
	o was a\ndrummer. After playing them the album in full\, they formed the i
	nternational\nindiepop / alternative pop band stardog.
URL:https://offbeat.amsterdam/event/laidback-live-or-stardog
GEO:52.3991339;4.8930985
LOCATION:Pllek - TT Neveritaweg 59\, 1033 WB Amsterdam
STATUS:CONFIRMED
CATEGORIES:alternative,amsterdam-noord,live,music,ndsm
X-ALT-DESC;FMTTYPE=text/html:<p><strong>Every Sunday from 16:00 to 17:00 at
	 Pllek: Laidback Live. The ideal chill session with live music to wrap up 
	your weekend. Live right in our restaurant – so free entry! – while you si
	p your drink.</strong></p> <p>After a move across the world, LA native Aus
	tin Clarizio wrote and recorded a concept album about the phases of grievi
	ng following a traumatic breakup. Mere days after completing a rough mix o
	f the album, he met a stranger in the Vondelpark, who happened to be a key
	board player, with a roommate who was a drummer. After playing them the al
	bum in full, they formed the international indiepop / alternative pop band
	 stardog.</p>
BEGIN:VALARM
ACTION:DISPLAY
DESCRIPTION:LAIDBACK LIVE | STARDOG
TRIGGER:-PT1H
END:VALARM
END:VEVENT
END:VCALENDAR
