BEGIN:VCALENDAR
VERSION:2.0
CALSCALE:GREGORIAN
PRODID:adamgibbons/ics
METHOD:PUBLISH
X-PUBLISHED-TTL:PT1H
BEGIN:VEVENT
UID:21127@offbeat.amsterdam
SUMMARY:La Murga ★ Basile Maneka live ★ Congolese Sounds ♫
DTSTAMP:20260423T190458Z
DTSTART:20260523T190000Z
DTEND:20260524T000000Z
DESCRIPTION:LA MURGA PRESENTS: BASILE MANEKA & BAND\n\n\nDJ SANNE MARGARITA
	\n\nSaturday 23.05.2026 @ Mezrab\n\n★\n\nWe are happy to welcome La Murga 
	collective to the Mezrab family!\nFor this first edition we will travel to
	 Congo\, Angola & Beyond.. BASILE MANEKA\n\nBasile Maneka is a (gospel) si
	nger\, guitarist\, percussionist\, performer\,\ncomposer\, and teacher of 
	African music. He grew up in Kinshasa\, immersed in a\nrich Congolese musi
	cal tradition. In addition to being a musician\, Basile is\nalso highly so
	ught after as a teacher of djembe and African singing.\n\nHe performs as a
	 solo artist and with various bands\, such as Baoema\, Africa\nUnited\, an
	d the Everyday People Band. And not to forget\, he also performs with\nthe
	 multicultural gospel choir AllforOne!\n\nBasile creates a suitable musica
	l lineup bringing music with passion\, rhythm\,\nand an authentic African 
	atmosphere.\n\nLine Up\n\nBasile Maneka – Guitar and Voice\nBenson Itoe – 
	Electric Bass\nMamour Seck – Drums\nMiguel Petruccelli – Guitar\n\nhttps:/
	/www.instagram.com/basilemaneka/\n[https://www.instagram.com/basilemaneka/
	]\n\nDJ\n\nSanne Margarita / Amsterdam – based vinyl selectress.\n\nSanne 
	Margarita grew up with a passion for music surrounded by African and Latin
	\nAmerican rhythms\, She will bring up the vibe with her collection\, disc
	overed in\nher multiple trips in South America. Be ready to hit the dance 
	floor with Afro\nlatin\, Caribbean and tropical sounds!\n\nhttps://www.ins
	tagram.com/sannevdf/ [https://www.instagram.com/sannevdf/]\n\n@sannevdf\n\
	n★\n\nDoors & DJ: 21:00\nLive music: 22:00\nTickets: 14\,50 EUR\nLimited o
	nline student tickets: 10 EUR
URL:https://offbeat.amsterdam/event/la-murga-star-basile-maneka-live-star-c
	ongolese-sounds-beamed-eighth-notes
GEO:52.3759775;4.9275458
LOCATION:Mezrab - Veemkade 576\, 1019 BL Amsterdam
STATUS:CONFIRMED
CATEGORIES:afro,amsterdam-oost,dance,dj,eastern docklands,gospel,live,music
	,vinyl
X-ALT-DESC;FMTTYPE=text/html:<h1>LA MURGA presents: BASILE MANEKA &amp; BAN
	D</h1> <h3>DJ SANNE MARGARITA</h3> <p>Saturday 23.05.2026 @ Mezrab</p>  <p
	>★</p> We are happy to welcome La Murga collective to the Mezrab family!<b
	r> For this first edition we will travel to Congo, Angola &amp; Beyond..  
	<strong>BASILE MANEKA</strong>  <p>Basile Maneka is a (gospel) singer, gui
	tarist, percussionist, performer, composer, and teacher of African music. 
	He grew up in Kinshasa, immersed in a rich Congolese musical tradition. In
	 addition to being a musician, Basile is also highly sought after as a tea
	cher of djembe and African singing.</p> <p>He performs as a solo artist an
	d with various bands, such as Baoema, Africa United, and the Everyday Peop
	le Band. And not to forget, he also performs with the multicultural gospel
	 choir AllforOne!</p> <p>Basile creates a suitable musical lineup bringing
	 music with passion, rhythm, and an authentic African atmosphere.</p> <p><
	strong>Line Up</strong></p>  Basile Maneka – Guitar and Voice<br> Benson I
	toe – Electric Bass<br> Mamour Seck – Drums<br> Miguel Petruccelli – Guita
	r <p><a target="_blank" href="https://www.instagram.com/basilemaneka/">htt
	ps://www.instagram.com/basilemaneka/</a></p> <p>DJ</p> <p>Sanne Margarita 
	/ Amsterdam – based vinyl selectress.</p> Sanne Margarita grew up with a p
	assion for music surrounded by African and Latin American rhythms, She wil
	l bring up the vibe with her collection, discovered in her multiple trips 
	in South America. Be ready to hit the dance floor with Afro latin, Caribbe
	an and tropical sounds!  <p><a target="_blank" href="https://www.instagram
	.com/sannevdf/">https://www.instagram.com/sannevdf/</a></p>   <p>@sannevdf
	</p>      <p>★</p>   Doors &amp; DJ: 21:00<br> Live music: 22:00<br> Ticke
	ts: 14,50 EUR<br> Limited online student tickets: 10 EUR
BEGIN:VALARM
ACTION:DISPLAY
DESCRIPTION:La Murga ★ Basile Maneka live ★ Congolese Sounds ♫
TRIGGER:-PT1H
END:VALARM
END:VEVENT
END:VCALENDAR
