BEGIN:VCALENDAR
VERSION:2.0
CALSCALE:GREGORIAN
PRODID:adamgibbons/ics
METHOD:PUBLISH
X-PUBLISHED-TTL:PT1H
BEGIN:VEVENT
UID:21228@offbeat.amsterdam
SUMMARY:Klonk & Bonk vol. 2
DTSTAMP:20260425T180156Z
DTSTART:20260522T190000Z
DTEND:20260523T010000Z
DESCRIPTION:Hey Klonkers and Bonkers! It's been almost 6 months since our l
	aunch party. With\nworld war 3 coming up\, it's time to celebrate life and
	 we want to do that with\nyou! So mark your calendar on May 22nd\, get you
	r ticket and be ready to cure\nyour spring fever at the second Klonk & Bon
	k party 💣\n\n𝐈𝐍𝐅𝐎\n\nDate: 22nd of May 2026\nTime: 21.00 - 03.00\nLocation
	: Toekomstmuziek: Primo's\, Danzigerbocht 29\, Amsterdam\nEntrance: Ticket
	s\n[https://klonk-en-bonk.bash.social/e/SVQfVghNOaPb?s=eToxafVx2ab&utm_sou
	rce=ig&utm_medium=social&utm_content=link_in_bio]
URL:https://offbeat.amsterdam/event/klonk-and-bonk-vol-2
GEO:52.3966283;4.8755183
LOCATION:Toekomstmuziek - Danzigerbocht 29\, 1013 AM Amsterdam
STATUS:CONFIRMED
CATEGORIES:amsterdam-west,electronic,house,minervahaven,party,techno,westpo
	ort
X-ALT-DESC;FMTTYPE=text/html:<p>Hey Klonkers and Bonkers! It's been almost 
	6 months since our launch party. With world war 3 coming up, it's time to 
	celebrate life and we want to do that with you! So mark your calendar on M
	ay 22nd, get your ticket and be ready to cure your spring fever at the sec
	ond Klonk &amp; Bonk party 💣  </p><br><p>𝐈𝐍𝐅𝐎</p><br><p>Date: 22nd of May 
	2026<br><br>Time: 21.00 - 03.00<br><br>Location: Toekomstmuziek: Primo's, 
	Danzigerbocht 29, Amsterdam<br><br>Entrance: <a href="https://klonk-en-bon
	k.bash.social/e/SVQfVghNOaPb?s=eToxafVx2ab&amp;utm_source=ig&amp;utm_mediu
	m=social&amp;utm_content=link_in_bio">Tickets</a></p>
BEGIN:VALARM
ACTION:DISPLAY
DESCRIPTION:Klonk & Bonk vol. 2
TRIGGER:-PT1H
END:VALARM
END:VEVENT
END:VCALENDAR
