BEGIN:VCALENDAR
VERSION:2.0
CALSCALE:GREGORIAN
PRODID:adamgibbons/ics
METHOD:PUBLISH
X-PUBLISHED-TTL:PT1H
BEGIN:VEVENT
UID:21036@offbeat.amsterdam
SUMMARY:🎬 Kissable Screens: Phantom Love – by Porn Film Festival Amsterdam
DTSTAMP:20260421T185516Z
DTSTART:20260530T183000Z
DESCRIPTION:Kissable Screens\, a monthly sex positive screening of Cavia\, 
	will recall films\nthat were presented at Porn Film Festival Amsterdam 202
	6\n[https://pornfilmfestival.amsterdam]. It is a favourable moment to gain
	 a new\nperspective on Pornography which can be artistic\, political\, mov
	ing\,\nthought-provoking and a catalyst for self-discovery.\n\nCan you des
	ire someone who isn’t there? Ghosts of the past\, people we never met\nin 
	person\, someone who only lives in our memories\, frozen in time. Separate
	d\nfrom us by oceans\, borders\, death\, break-ups and other foul plot twi
	sts of life.\nHow to love them in the face of their silence? Are we still 
	allowed to imagine\nthem naked\, continue the conversation\, look through 
	the traces they left behind?\nA smell on our skin\, scribbles in the sidel
	ines of a book\, a song\, a hair\, a\nvoice note. Phantom loves we still f
	eel near in their absence.\n \n\nUntie\nOat Montien | 2023 | USA / Thailan
	d | 5’\n\nShot on Super8 camera in Death Valley\, this film documents the 
	grieving ritual\nof Oat Montien as “The Gay Asian Cowboy”. He reimagines s
	hibari (asian rope\nbondage) in a Western cowboy aesthetic as tribute to h
	is late father.\n \n\nLost Belongings 유실물\nJaewon Kim | 2025 | South Korea
	 | 10'\n\nThis film draws the experiences of gay men who have experienced 
	chemsex by\nfocusing on the objects left behind or used by members of the 
	group. Through the\nobjects\, it explores the traces of memory\, illness\,
	 and even specific\nexperiences\, where emotions and time remain embedded.
	\n \n\nLes fantômes du hard\nLazare Lazarus | 2025 | France | 28’\n\nThe f
	ilm is made from the archives of the Mineshaft’s founder\, preserved at\nM
	émoire des Sexualités\, a queer archive center based in Marseille and expl
	ores\nhow we might build lines of kinship and continuity with the queer ge
	nerations\nthat came before us. \n \n\nFluister voor me\nSilkyway’s Univer
	se | 2025 | Netherlands | 3’\n\nThe film plays with the eroticism of poetr
	y. In our overstimulating reality\, the\nwhispered beat of a poem can guid
	e you into a retreat of your own\, into fantasy\nmore real than reality.\n
	 \n\nAnnihilation\nCris Noon | 2023 | USA | 5’\n\nIn an abandoned church\,
	 a man enacts a violent sexual fantasy with a masked\nstranger\, unravelin
	g his sense of self.\n \n\nUnraveling Pleasure On Distance\nL_i_l_a_k_i & 
	Vili XG | 2024 | Greece | 6’\n\nIt is a single-channel short film explorin
	g the erotic tension and emotional\nintimacy of long-distance lovers. Shot
	 mainly in vertical format\, the film draws\nits material from mobile phon
	e screens\, screen recordings\, video calls\, and\ndigital performances ca
	ptured in moments of vulnerability and desire.\n \n\nEmbrasse-moi du Regar
	d\nDiamonds Bitch\, Saphir Cocks | 2024 | Belgium | 22’\n\nIn a world in d
	ecay\, Regis roams around. Torn by loneliness\, it is in a heap of\ngarbag
	e that he discovers love\, until he is swept away by it.\n 
URL:https://offbeat.amsterdam/event/kissable-screens-phantom-love-by-porn-f
	ilm-festival-amsterdam
GEO:52.381974;4.8703107
LOCATION:Filmhuis Cavia - Van Hallstraat 52-1\, 1051 HH Amsterdam
STATUS:CONFIRMED
CATEGORIES:amsterdam-west,books,festivals,film,performance,poetry,queer,sta
	atsliedenbuurt
X-ALT-DESC;FMTTYPE=text/html:<p>Kissable Screens, a monthly sex positive sc
	reening of Cavia, will recall films that were presented at <a target="_bla
	nk" href="https://pornfilmfestival.amsterdam">Porn Film Festival Amsterdam
	 2026</a>. It is a favourable moment to gain a new perspective on Pornogra
	phy which can be artistic, political, moving, thought-provoking and a cata
	lyst for self-discovery.<br><br>Can you desire someone who isn’t there? Gh
	osts of the past, people we never met in person, someone who only lives in
	 our memories, frozen in time. Separated from us by oceans, borders, death
	, break-ups and other foul plot twists of life. How to love them in the fa
	ce of their silence? Are we still allowed to imagine them naked, continue 
	the conversation, look through the traces they left behind? A smell on our
	 skin, scribbles in the sidelines of a book, a song, a hair, a voice note.
	 Phantom loves we still feel near in their absence.<br>&nbsp;</p><br><p><s
	trong>Untie</strong><br>Oat Montien | 2023 | USA / Thailand | 5’</p><br><p
	>Shot on Super8 camera in Death Valley, this film documents the grieving r
	itual of Oat Montien as “The Gay Asian Cowboy”. He reimagines shibari (asi
	an rope bondage) in a Western cowboy aesthetic as tribute to his late fath
	er.<br>&nbsp;</p><br><p><strong>Lost Belongings 유실물 </strong><br>Jaewon Ki
	m | 2025 | South Korea | 10'</p><br><p>This film draws the experiences of 
	gay men who have experienced chemsex by focusing on the objects left behin
	d or used by members of the group. Through the objects, it explores the tr
	aces of memory, illness, and even specific experiences, where emotions and
	 time remain embedded.<br>&nbsp;</p><br><p><strong>Les fantômes du hard</s
	trong><br>Lazare Lazarus | 2025 | France | 28’</p><br><p>The film is made 
	from the archives of the Mineshaft’s founder, preserved at Mémoire des Sex
	ualités, a queer archive center based in Marseille and explores how we mig
	ht build lines of kinship and continuity with the queer generations that c
	ame before us.&nbsp;<br>&nbsp;</p><br><p><strong>Fluister voor me</strong>
	<br>Silkyway’s Universe | 2025 | Netherlands | 3’</p><br><p>The film plays
	 with the eroticism of poetry. In our overstimulating reality, the whisper
	ed beat of a poem can guide you into a retreat of your own, into fantasy m
	ore real than reality.<br>&nbsp;</p><br><p><strong>Annihilation</strong><b
	r>Cris Noon | 2023 | USA | 5’</p><br><p>In an abandoned church, a man enac
	ts a violent sexual fantasy with a masked stranger, unraveling his sense o
	f self.<br>&nbsp;</p><br><p><strong>Unraveling Pleasure On Distance</stron
	g><br>L_i_l_a_k_i &amp; Vili XG | 2024 | Greece | 6’</p><br><p>It is a sin
	gle-channel short film exploring the erotic tension and emotional intimacy
	 of long-distance lovers. Shot mainly in vertical format, the film draws i
	ts material from mobile phone screens, screen recordings, video calls, and
	 digital performances captured in moments of vulnerability and desire.<br>
	&nbsp;</p><br><p><strong>Embrasse-moi du Regard</strong><br>Diamonds Bitch
	, Saphir Cocks | 2024 | Belgium | 22’</p><br><p>In a world in decay, Regis
	 roams around. Torn by loneliness, it is in a heap of garbage that he disc
	overs love, until he is swept away by it.<br>&nbsp;</p>
BEGIN:VALARM
ACTION:DISPLAY
DESCRIPTION:🎬 Kissable Screens: Phantom Love – by Porn Film Festival Amster
	dam
TRIGGER:-PT1H
END:VALARM
END:VEVENT
END:VCALENDAR
