BEGIN:VCALENDAR
VERSION:2.0
CALSCALE:GREGORIAN
PRODID:adamgibbons/ics
METHOD:PUBLISH
X-PUBLISHED-TTL:PT1H
BEGIN:VEVENT
UID:21204@offbeat.amsterdam
SUMMARY:Kingsday Blockparty x PATTA (FREE ENTRANCE)
DTSTAMP:20260424T234742Z
DTSTART:20260427T100000Z
DTEND:20260427T180000Z
DESCRIPTION:You already know where you want to be this Kingsday\, and we pr
	omise this edition\nis going to be a big one! Join us for our Kingsday blo
	ck party from 12:00 until\n20:00 (free entry) then head inside for a prope
	r after dance at Radio Radio.\n\n18+
URL:https://offbeat.amsterdam/event/kingsday-blockparty-x-patta-free-entran
	ce
GEO:52.3860704;4.8740538
LOCATION:Radio Radio - Pazzanistraat 3\, 1014 DB Amsterdam
STATUS:CONFIRMED
CATEGORIES:amsterdam-west,dance,party,westerpark
X-ALT-DESC;FMTTYPE=text/html:<p>You already know where you want to be this 
	Kingsday, and we promise this edition is going to be a big one!<br><br><br
	>Join us for our Kingsday block party from 12:00 until 20:00 (free entry) 
	then head inside for a proper after dance at Radio Radio.</p>18+
BEGIN:VALARM
ACTION:DISPLAY
DESCRIPTION:Kingsday Blockparty x PATTA (FREE ENTRANCE)
TRIGGER:-PT1H
END:VALARM
END:VEVENT
END:VCALENDAR
