BEGIN:VCALENDAR
VERSION:2.0
CALSCALE:GREGORIAN
PRODID:adamgibbons/ics
METHOD:PUBLISH
X-PUBLISHED-TTL:PT1H
BEGIN:VEVENT
UID:21203@offbeat.amsterdam
SUMMARY:Kingsday After
DTSTAMP:20260424T234226Z
DTSTART:20260427T180000Z
DTEND:20260428T040000Z
DESCRIPTION:After our Kingsday Blockparty\, you are welcome to dance! We’re
	 doubling our\ncapacity by using the space from our neighbours so expect a
	 big one! A few\ntickets are available online\, with plenty more at the do
	or. First come\, first\nserved!\n\n21+
URL:https://offbeat.amsterdam/event/kingsday-after
GEO:52.3860704;4.8740538
LOCATION:Radio Radio - Pazzanistraat 3\, 1014 DB Amsterdam
STATUS:CONFIRMED
CATEGORIES:amsterdam-west,dance,westerpark
X-ALT-DESC;FMTTYPE=text/html:<p>After our Kingsday Blockparty, you are welc
	ome to dance! We’re doubling our capacity by using the space from our neig
	hbours so expect a big one! A few tickets are available online, with plent
	y more at the door. First come, first served!<br></p>21+
BEGIN:VALARM
ACTION:DISPLAY
DESCRIPTION:Kingsday After
TRIGGER:-PT1H
END:VALARM
END:VEVENT
END:VCALENDAR
