BEGIN:VCALENDAR
VERSION:2.0
CALSCALE:GREGORIAN
PRODID:adamgibbons/ics
METHOD:PUBLISH
X-PUBLISHED-TTL:PT1H
BEGIN:VEVENT
UID:21048@offbeat.amsterdam
SUMMARY:Kaya Imani
DTSTAMP:20260421T183316Z
DTSTART:20270305T193000Z
DESCRIPTION:Rising voice in Dutch r&b
URL:https://offbeat.amsterdam/event/kaya-imani
GEO:52.36215535;4.883782439016489
LOCATION:Paradiso - Weteringschans 6\, 1017 SG Amsterdam
STATUS:CONFIRMED
CATEGORIES:amsterdam-centrum,leidseplein,rnb
X-ALT-DESC;FMTTYPE=text/html:Rising voice in Dutch r&b
BEGIN:VALARM
ACTION:DISPLAY
DESCRIPTION:Kaya Imani
TRIGGER:-PT1H
END:VALARM
END:VEVENT
END:VCALENDAR
