BEGIN:VCALENDAR
VERSION:2.0
CALSCALE:GREGORIAN
PRODID:adamgibbons/ics
METHOD:PUBLISH
X-PUBLISHED-TTL:PT1H
BEGIN:VEVENT
UID:21201@offbeat.amsterdam
SUMMARY:Juicy Wednesdays
DTSTAMP:20260424T234246Z
DTSTART:20260429T150000Z
DTEND:20260429T210000Z
DESCRIPTION:Line up: Kai & Patrick\nOpen: 17:00 - 23:00 hrs\nTickets: € 12\
	n\nCafé Gilde will be taken over by two of its newest members\, Patrick an
	d Kai!\n\nWe'll be making a summery starter\, a refreshing noodle salad fo
	r main\, and a\nmango sticky rice for dessert.\n\nServing food from 19:00!
	 It's gonna be yummy! Come come!\n\nYou can buy a deposit via the "buy tic
	ket" link here!
URL:https://offbeat.amsterdam/event/juicy-wednesdays
GEO:52.3601403;4.8656923
LOCATION:OT301 - Overtoom 301\, 1054 HW Amsterdam
STATUS:CONFIRMED
CATEGORIES:amsterdam-west,food,vondelparkbuurt
X-ALT-DESC;FMTTYPE=text/html:<strong>Line up:</strong> Kai &amp; Patrick<br
	><strong>Open:</strong> 17:00 - 23:00 hrs<br><strong>Tickets:</strong> € 1
	2  <p>Café Gilde will be taken over by two of its newest members, Patrick 
	and Kai!</p> <p>We'll be making a summery starter, a refreshing noodle sal
	ad for main, and a mango sticky rice for dessert.</p> <p>Serving food from
	 19:00! It's gonna be yummy! Come come!</p> <p>You can buy a deposit via t
	he "buy ticket" link here!</p>
BEGIN:VALARM
ACTION:DISPLAY
DESCRIPTION:Juicy Wednesdays
TRIGGER:-PT1H
END:VALARM
END:VEVENT
END:VCALENDAR
