BEGIN:VCALENDAR
VERSION:2.0
CALSCALE:GREGORIAN
PRODID:adamgibbons/ics
METHOD:PUBLISH
X-PUBLISHED-TTL:PT1H
BEGIN:VEVENT
UID:21122@offbeat.amsterdam
SUMMARY:Journalistiek Theater: van klaslokaal naar thuiszitters
DTSTAMP:20260423T185146Z
DTSTART:20260610T183000Z
DESCRIPTION:De afgelopen maanden onderzocht De Balie in samenwerking met AT
	5 en Leidsch\nDagblad de impact van de groeiende groep thuiszitters in Ams
	terdam en Leiden.\nDoor te spreken met ouders\, kinderen\, leerkrachten\, 
	hulpverleners en\nbeleidsmakers brachten we in kaart wat er gebeurt wannee
	r jongeren langdurig\nbuiten het onderwijs vallen.\n\nDeze voorstelling vi
	ndt plaat in Theater Ins Blau\, Leiden\n\nDe uitkomst van het onderzoek pr
	esenteren we op 8 juni met een\ntheatervoorstelling\, geschreven door Pepi
	jn Smit en geregisseerd door Tijs Huys\nvan het PS|theater. Aansluitend ga
	an we in gesprek met de zaal: hoe zorgen we\nervoor dat ieder kind weer ee
	n plek in de klas krijgt?
URL:https://offbeat.amsterdam/event/journalistiek-theater-van-klaslokaal-na
	ar-thuiszitters-1
GEO:52.3630433;4.8828596
LOCATION:De Balie - Kleine-Gartmanplantsoen 10\, 1017 RR Amsterdam
STATUS:CONFIRMED
CATEGORIES:amsterdam-centrum,emancipatie & identiteit,leidseplein,theater
X-ALT-DESC;FMTTYPE=text/html:<p><strong>De afgelopen maanden onderzocht De 
	Balie in samenwerking met AT5 en Leidsch Dagblad de impact van de groeiend
	e groep thuiszitters in Amsterdam en Leiden. Door te spreken met ouders, k
	inderen, leerkrachten, hulpverleners en beleidsmakers brachten we in kaart
	 wat er gebeurt wanneer jongeren langdurig buiten het onderwijs vallen.</s
	trong></p> <p><em>Deze voorstelling vindt plaat in Theater Ins Blau, Leide
	n</em></p> <p>De uitkomst van het onderzoek presenteren we op 8 juni met e
	en theatervoorstelling, geschreven door Pepijn Smit en geregisseerd door T
	ijs Huys van het PS|theater. Aansluitend gaan we in gesprek met de zaal: h
	oe zorgen we ervoor dat ieder kind weer een plek in de klas krijgt?</p>
BEGIN:VALARM
ACTION:DISPLAY
DESCRIPTION:Journalistiek Theater: van klaslokaal naar thuiszitters
TRIGGER:-PT1H
END:VALARM
END:VEVENT
END:VCALENDAR
