BEGIN:VCALENDAR
VERSION:2.0
CALSCALE:GREGORIAN
PRODID:adamgibbons/ics
METHOD:PUBLISH
X-PUBLISHED-TTL:PT1H
BEGIN:VEVENT
UID:21130@offbeat.amsterdam
SUMMARY:Jett Rebel
DTSTAMP:20260423T185916Z
DTSTART:20270107T183000Z
DESCRIPTION:None\n\nRebel is a singer\, songwriter\, and multi-instrumental
	ist all in one. Every stage\ntransforms into a collective burst of energy.
	 Where others rely on backing\ntapes\, Rebel opts for real playing\, genui
	ne emotion\, and a mix of funk\, soul\,\nand real rock ’n’ roll. And alway
	s straight from the heart. A Jett Rebel show is\nlike a ritual: a safe spa
	ce where you let go\, celebrate\, and connect. The\naudience becomes part 
	of a simmering\, pulsating community that is on high alert\nevery second a
	nd can explode at any moment into one big inferno of energy and\nlove.\n\n
	After a period of soul-searching\, Rebel knows that his truth truly lies o
	n the\nstage\, and that the audience needs him and vice versa. That is why
	 he has formed\na new band around himself and is going to play again as if
	 every note is his\nlast: dangerous\, intimate\, grand\, and unpredictable
	. With new music on the way\nlater in 2026\, Jett Rebel is more than back.
	 Stronger\, rawer\, and more urgent\nthan ever.
URL:https://offbeat.amsterdam/event/jett-rebel
GEO:52.36215535;4.883782439016489
LOCATION:Paradiso - Weteringschans 6\, 1017 SG Amsterdam
STATUS:CONFIRMED
CATEGORIES:amsterdam-centrum,community,funk,leidseplein,music,rock,soul
X-ALT-DESC;FMTTYPE=text/html:None<br><br><p>Rebel is a singer, songwriter, 
	and multi-instrumentalist all in one. Every stage transforms into a collec
	tive burst of energy. Where others rely on backing tapes, Rebel opts for r
	eal playing, genuine emotion, and a mix of funk, soul, and real rock ’n’ r
	oll. And always straight from the heart. A Jett Rebel show is like a ritua
	l: a safe space where you let go, celebrate, and connect. The audience bec
	omes part of a simmering, pulsating community that is on high alert every 
	second and can explode at any moment into one big inferno of energy and lo
	ve.</p><p>After a period of soul-searching, Rebel knows that his truth tru
	ly lies on the stage, and that the audience needs him and vice versa. That
	 is why he has formed a new band around himself and is going to play again
	 as if every note is his last: dangerous, intimate, grand, and unpredictab
	le. With new music on the way later in 2026, Jett Rebel is more than back.
	 Stronger, rawer, and more urgent than ever.</p>
BEGIN:VALARM
ACTION:DISPLAY
DESCRIPTION:Jett Rebel
TRIGGER:-PT1H
END:VALARM
END:VEVENT
END:VCALENDAR
