BEGIN:VCALENDAR
VERSION:2.0
CALSCALE:GREGORIAN
PRODID:adamgibbons/ics
METHOD:PUBLISH
X-PUBLISHED-TTL:PT1H
BEGIN:VEVENT
UID:21148@offbeat.amsterdam
SUMMARY:Jazzy Thursdays x MoKo Contraband
DTSTAMP:20260424T193847Z
DTSTART:20260528T190000Z
DTEND:20260528T220000Z
DESCRIPTION:The Band is called MoKo Contraband and consists of Linus Epping
	er on Guitar\, Ron\nCha on Piano\, Moritz Koser on Bass and Xaver Hellmeie
	r on Drums.\n\nLinus Eppinger is a soulful jazz guitarist in the tradition
	 of Wes Montgomery\nand George Benson. He lives in Amsterdam and leads his
	 own quartet. As an\neducator\, Linus teaches in the young talent program 
	of the Conservatorium van\nAmsterdam.\n\nRon Cha is a Pianist\, Producer\,
	 Composer and Educator from Assam\, India. Ron\n\nhas had a Western Classi
	cal Piano background for 15 years and then crossed over\n\nto Jazz\, RnB a
	nd Gospel music\, eventually studying at Berklee College of Music.\nHe\n\n
	has toured America\, Europe and Asia with various international musicians.
	\n\nXaver Hellmeier is a jazz drummer from Munich\, Germany. He studied in
	 Vienna and\n\nNew York under Joe Farnsworth and played with Jazz greats s
	uch as Vincent\n\nHerring and Eric Alexander. Coming back from New York\, 
	Xaver‘s career quickly\n\npicked up as he was starting to build a reputati
	on as a gifted drummer deeply\nrooted\n\nin the tradition of jazz.\n\nMori
	tz Koser is a double bassist originally from Frankfurt\, Germany. He studi
	ed\n\nunder Thomas Stabenow in Mannheim and has become a part of the Amste
	rdam as\n\nwell as the Frankfurt jazz scene. Paul Chambers is the only bas
	sist that really\n\nmatters to him.
URL:https://offbeat.amsterdam/event/jazzy-thursdays-x-moko-contraband
GEO:52.3691458;4.8950558
LOCATION:Contra - Oudezijds Achterburgwal 235\, 1012 DL Amsterdam
STATUS:CONFIRMED
CATEGORIES:amsterdam-centrum,burgwallen,gospel,jazz,music,piano,rnb
X-ALT-DESC;FMTTYPE=text/html:<p>The Band is called MoKo Contraband and cons
	ists of Linus Eppinger on Guitar, Ron Cha on Piano, Moritz Koser on Bass a
	nd Xaver Hellmeier on Drums.</p><p>Linus Eppinger is a soulful jazz guitar
	ist in the tradition of Wes Montgomery and George Benson. He lives in Amst
	erdam and leads his own quartet. As an educator, Linus teaches in the youn
	g talent program of the Conservatorium van Amsterdam.</p><p>Ron Cha is a P
	ianist, Producer, Composer and Educator from Assam, India. Ron</p><p>has h
	ad a Western Classical Piano background for 15 years and then crossed over
	</p><p>to Jazz, RnB and Gospel music, eventually studying at Berklee Colle
	ge of Music. He</p><p>has toured America, Europe and Asia with various int
	ernational musicians.</p><p>Xaver Hellmeier is a jazz drummer from Munich,
	 Germany. He studied in Vienna and</p><p>New York under Joe Farnsworth and
	 played with Jazz greats such as Vincent</p><p>Herring and Eric Alexander.
	 Coming back from New York, Xaver‘s career quickly</p><p>picked up as he w
	as starting to build a reputation as a gifted drummer deeply rooted</p><p>
	in the tradition of jazz.</p><p>Moritz Koser is a double bassist originall
	y from Frankfurt, Germany. He studied</p><p>under Thomas Stabenow in Mannh
	eim and has become a part of the Amsterdam as</p><p>well as the Frankfurt 
	jazz scene. Paul Chambers is the only bassist that really</p><p>matters to
	 him.</p>
BEGIN:VALARM
ACTION:DISPLAY
DESCRIPTION:Jazzy Thursdays x MoKo Contraband
TRIGGER:-PT1H
END:VALARM
END:VEVENT
END:VCALENDAR
