BEGIN:VCALENDAR
VERSION:2.0
CALSCALE:GREGORIAN
PRODID:adamgibbons/ics
METHOD:PUBLISH
X-PUBLISHED-TTL:PT1H
BEGIN:VEVENT
UID:21027@offbeat.amsterdam
SUMMARY:Jazzy Thursdays x Max Boyer & the Berserk Band
DTSTAMP:20260421T184016Z
DTSTART:20260430T190000Z
DTEND:20260430T220000Z
DESCRIPTION:Max Boyer & the Berserk Band is a modern jazz quartet that sits
	 at the\ncrossroads of tradition and innovation\, skillfully blending infl
	uences of folk\nand church music. The project was born from the vision of 
	Max Boyer\, guitarist\nand composer\, who sought to create a unique sonic 
	universe through an\nunconventional lineup: two guitars\, double bass\, an
	d\n\ndrums. This setup was directly inspired by the sound of Emmanuel Mich
	ael\, whose\n\nwork profoundly influenced Max’s artistic approach.\n\nThe 
	desire to collaborate with musicians who share similar sensibilities playe
	d\na\n\nfundamental role in the group’s formation. Double bassist Justin M
	aas\, who\nshares\n\nMax’s musical vision\, naturally joined the project\,
	 bringing finesse and depth\nto the\n\nrhythmic foundation. Guitarist Luca
	 Sturny complements the duo with a compact\n\nyet powerful playing style\,
	 allowing for a rich and nuanced dialogue between the\n\ntwo guitars. On d
	rums\, Paul Lefèvre delivers fluid\, energetic\, and deeply\ngrounded\n\nr
	hythms that perfectly align with the group’s identity — strengthened by a\
	nlongtime\n\nfriendship with Max.\n\nThe music of Max Boyer & the Berserk 
	Band navigates between lyricism and\n\nenergy\, combining modernity and em
	otion with great mastery. Inspired by artists\n\nlike Emmanuel Michael\, B
	rian Blade & The Fellowship Band\, and Joel Ross\, the\n\ngroup aims to of
	fer an intimate yet vibrant musical experience. Their debut\nalbum\,\n\nex
	pected in 2026\, marks a significant milestone in defining this distinctiv
	e\nsonic\n\nidentity\, blending original compositions with bold improvisat
	ions.\n\nThis project reflects a true artistic journey fueled by a spirit 
	of exploration\nand deep\n\ncamaraderie\, where each member fully contribu
	tes to the richness and coherence\n\nof the sound.
URL:https://offbeat.amsterdam/event/jazzy-thursdays-x-max-boyer-and-the-ber
	serk-band
GEO:52.3691458;4.8950558
LOCATION:Contra - Oudezijds Achterburgwal 235\, 1012 DL Amsterdam
STATUS:CONFIRMED
CATEGORIES:amsterdam-centrum,burgwallen,jazz,music
X-ALT-DESC;FMTTYPE=text/html:<p>Max Boyer &amp; the Berserk Band is a moder
	n jazz quartet that sits at the crossroads of tradition and innovation, sk
	illfully blending influences of folk and church music. The project was bor
	n from the vision of Max Boyer, guitarist and composer, who sought to crea
	te a unique sonic universe through an unconventional lineup: two guitars, 
	double bass, and</p><p>drums. This setup was directly inspired by the soun
	d of Emmanuel Michael, whose</p><p>work profoundly influenced Max’s artist
	ic approach.</p><p>The desire to collaborate with musicians who share simi
	lar sensibilities played a</p><p>fundamental role in the group’s formation
	. Double bassist Justin Maas, who shares</p><p>Max’s musical vision, natur
	ally joined the project, bringing finesse and depth to the</p><p>rhythmic 
	foundation. Guitarist Luca Sturny complements the duo with a compact</p><p
	>yet powerful playing style, allowing for a rich and nuanced dialogue betw
	een the</p><p>two guitars. On drums, Paul Lefèvre delivers fluid, energeti
	c, and deeply grounded</p><p>rhythms that perfectly align with the group’s
	 identity — strengthened by a longtime</p><p>friendship with Max.</p><p>Th
	e music of Max Boyer &amp; the Berserk Band navigates between lyricism and
	</p><p>energy, combining modernity and emotion with great mastery. Inspire
	d by artists</p><p>like Emmanuel Michael, Brian Blade &amp; The Fellowship
	 Band, and Joel Ross, the</p><p>group aims to offer an intimate yet vibran
	t musical experience. Their debut album,</p><p>expected in 2026, marks a s
	ignificant milestone in defining this distinctive sonic</p><p>identity, bl
	ending original compositions with bold improvisations.</p><p>This project 
	reflects a true artistic journey fueled by a spirit of exploration and dee
	p</p><p>camaraderie, where each member fully contributes to the richness a
	nd coherence</p><p>of the sound.</p>
BEGIN:VALARM
ACTION:DISPLAY
DESCRIPTION:Jazzy Thursdays x Max Boyer & the Berserk Band
TRIGGER:-PT1H
END:VALARM
END:VEVENT
END:VCALENDAR
