BEGIN:VCALENDAR
VERSION:2.0
CALSCALE:GREGORIAN
PRODID:adamgibbons/ics
METHOD:PUBLISH
X-PUBLISHED-TTL:PT1H
BEGIN:VEVENT
UID:17876@offbeat.amsterdam
SUMMARY:Jazz Club
DTSTAMP:20260421T100307Z
DTSTART:20260327T200000Z
DTEND:20260328T030000Z
DESCRIPTION:As the days get longer and the winter becomes part of the past\
	, Jazz Club\nreturns for their 2026 launch event.\n\nAn evening sitting at
	 the intersection of house and jazz. Where live music meets\nthe club. And
	 as always\, musically curious for a night of sonic exploration.\n\nTwo ro
	oms. All night. Deep grooves and ripping solos.\n\nSee you at Jazz Club.\n
	\nLineup:\nJAZZ\nMario Georges\nNorah Jane\nBon Aime b2b Nikko Axzul\nbaes
	mith b2b Siena Avalon\nSecret Guests\n\nCLUB\nJoss Moog \nRelmer\nDavid We
	stcombe (flute)\nAndrea Del Vescovo (trumpet)
URL:https://offbeat.amsterdam/event/jazz-club-1
GEO:52.3420481;4.8437759
LOCATION:Bar Dancing Multipla - Valschermkade 16\, 1059 CD Amsterdam
STATUS:CONFIRMED
CATEGORIES:house,jazz,live,music,oud-zuid,schinkelterrein,sonic exploration
X-ALT-DESC;FMTTYPE=text/html:<p>As the days get longer and the winter becom
	es part of the past, Jazz Club returns for their 2026 launch event.<br><br
	>An evening sitting at the intersection of house and jazz. Where live musi
	c meets the club. And as always, musically curious for a night of sonic ex
	ploration. <br><br>Two rooms. All night. Deep grooves and ripping solos.<b
	r><br>See you at Jazz Club.</p><p><strong>Lineup:</strong><br>JAZZ<br>Mari
	o Georges<br>Norah Jane<br>Bon Aime b2b Nikko Axzul<br>baesmith b2b Siena 
	Avalon<br>Secret Guests<br><br>CLUB<br>Joss Moog&nbsp;<br>Relmer<br>David 
	Westcombe (flute)<br>Andrea Del Vescovo (trumpet)</p>
BEGIN:VALARM
ACTION:DISPLAY
DESCRIPTION:Jazz Club
TRIGGER:-PT1H
END:VALARM
END:VEVENT
END:VCALENDAR
