BEGIN:VCALENDAR
VERSION:2.0
CALSCALE:GREGORIAN
PRODID:adamgibbons/ics
METHOD:PUBLISH
X-PUBLISHED-TTL:PT1H
BEGIN:VEVENT
UID:21179@offbeat.amsterdam
SUMMARY:Iron Maiden: Burning Ambition (2026)
DTSTAMP:20260424T193709Z
DTSTART:20260516T191500Z
DESCRIPTION:With unprecedented access to the official archives and intimate
	 recollections\nfrom the band\, both current and past\, "Iron Maiden: Burn
	ing Ambition" invites\nfans to experience one of the most iconic journeys 
	in music history. Spanning\nfive decades\, this electrifying documentary c
	harts the band’s rise from the pubs\nof East London to the world’s biggest
	 stadiums. \n\nFeaturing exclusive interviews with band members and contri
	butors such as Javier\nBardem\, Lars Ulrich\, Tom Morello and Chuck D\, as
	 well as all-new animated\nsequences of the band's legendary mascot\, Eddi
	e\, the film offers a rare and\nintimate look at Iron Maiden’s uncompromis
	ing vision and unwavering connection\nwith their truly global army of fans
	.\n\nMelkweg often hosts different types of programmes at the same time\, 
	such as\nconcerts\, club nights and films. Please note that there may occa
	sionally be some\nnoise pollution from other programmes during the screeni
	ng.
URL:https://offbeat.amsterdam/event/iron-maiden-burning-ambition-2026-2
GEO:52.3647777;4.881073026725959
LOCATION:Melkweg - Lijnbaansgracht 234A\, 1017 PH Amsterdam
STATUS:CONFIRMED
CATEGORIES:amsterdam-centrum,film,heavy metal,leidseplein,music documentary
X-ALT-DESC;FMTTYPE=text/html:<p>With unprecedented access to the official a
	rchives and intimate recollections from the band, both current and past, "
	Iron Maiden: Burning Ambition" invites fans to experience one of the most 
	iconic journeys in music history. Spanning five decades, this electrifying
	 documentary charts the band’s rise from the pubs of East London to the wo
	rld’s biggest stadiums.&nbsp;</p><p>Featuring exclusive interviews with ba
	nd members and contributors such as Javier Bardem, Lars Ulrich, Tom Morell
	o and Chuck D, as well as all-new animated sequences of the band's legenda
	ry mascot, Eddie, the film offers a rare and intimate look at Iron Maiden’
	s uncompromising vision and unwavering connection with their truly global 
	army of fans.</p><p><i>Melkweg often hosts different types of programmes a
	t the same time, such as concerts, club nights and films. Please note that
	 there may occasionally be some noise pollution from other programmes duri
	ng the screening.</i></p>
BEGIN:VALARM
ACTION:DISPLAY
DESCRIPTION:Iron Maiden: Burning Ambition (2026)
TRIGGER:-PT1H
END:VALARM
END:VEVENT
END:VCALENDAR
