BEGIN:VCALENDAR
VERSION:2.0
CALSCALE:GREGORIAN
PRODID:adamgibbons/ics
METHOD:PUBLISH
X-PUBLISHED-TTL:PT1H
BEGIN:VEVENT
UID:21038@offbeat.amsterdam
SUMMARY:Interpretation / Live-translation Workshop (all levels welcome!)
DTSTAMP:20260421T183424Z
DTSTART:20260527T160000Z
DESCRIPTION:Interpretation / Live-translation Workshop (all levels welcome!
	)\n\nTired of English dominating all our militant spaces and discourses?\n
	\n*Vous en avez assez que l'anglais domine tous nos espaces et nos discour
	s\nmilitants ?*\n\nCraving to know what the Spanish squatters are laughing
	 about?\n\n*Te gustaria saber de que se rien en los okupas Neerlandés habl
	ante*\n\nWanting to break down language barriers\, learn a practical skill
	 and train your\nbrain?\n\n*Vuoi rilassarti\, sgranocchiare e divertirti c
	on gli amici*?\n\n \n\nCome to an introduction to interpretation\, so-call
	ed instanteneous translation\,\nlearn the tips and share the tricks to bec
	ome the sharpest tool against language\nhegemony! Start a debate about the
	 coloniality of various languages\, or reveal\nyour inner translator. Make
	 our political bubble more accessible and welcoming.\n\nLearn the lingo an
	d how to use some of the tech commonly used by interpreters\,\npractice in
	terpretation on topics you enjoy and meet other bilinguals\,\nnon-bilingua
	ls\, trilinguals\, polyglotes and other language anarchists!\n\n \n\n \n\n
	 
URL:https://offbeat.amsterdam/event/interpretation-live-translation-worksho
	p-all-levels-welcome
GEO:52.35556625;4.9249982
LOCATION:Joe's Garage - Pretoriusstraat 43\, 1092 EZ Amsterdam
STATUS:CONFIRMED
CATEGORIES:amsterdam-oost,course/workshop,live,transvaalbuurt,workshop
X-ALT-DESC;FMTTYPE=text/html:<p><strong>Interpretation / Live-translation W
	orkshop (all levels welcome!)</strong><br><br>Tired of English dominating 
	all our militant spaces and discourses?</p><br><p>*Vous en avez assez que 
	l'anglais domine tous nos espaces et nos discours militants ?*</p><br><p>C
	raving to know what the Spanish squatters are laughing about?</p><br><p>*T
	e gustaria saber de que se rien en los okupas Neerlandés hablante*</p><br>
	<p>Wanting to break down language barriers, learn a practical skill and tr
	ain your brain?</p><br><p>*Vuoi rilassarti,&nbsp;sgranocchiare e divertirt
	i con gli amici*?</p><br><p>&nbsp;</p><br><p>Come to an <strong>introducti
	on to interpretation</strong>, so-called instanteneous translation, learn 
	the tips and share the tricks to become the sharpest tool against language
	 hegemony! Start a debate about the coloniality of various languages, or r
	eveal your inner translator. Make our political bubble more accessible and
	 welcoming.</p><br><p>Learn the lingo and how to use some of the <strong>t
	ech</strong> commonly used by interpreters, <strong>practice interpretatio
	n</strong> on topics you enjoy and meet other bilinguals, non-bilinguals, 
	trilinguals, polyglotes and other language anarchists!</p><br><p>&nbsp;</p
	><br><p>&nbsp;</p><br><p>&nbsp;</p>
BEGIN:VALARM
ACTION:DISPLAY
DESCRIPTION:Interpretation / Live-translation Workshop (all levels welcome!
	)
TRIGGER:-PT1H
END:VALARM
END:VEVENT
END:VCALENDAR
