BEGIN:VCALENDAR
VERSION:2.0
CALSCALE:GREGORIAN
PRODID:adamgibbons/ics
METHOD:PUBLISH
X-PUBLISHED-TTL:PT1H
BEGIN:VEVENT
UID:21035@offbeat.amsterdam
SUMMARY:🎬 Indy Film Library Festival
DTSTAMP:20260421T183914Z
DTSTART:20260502T140000Z
DTEND:20260502T210000Z
DESCRIPTION:Indy Film Library (IFL) is hosting two days of film screenings\
	n[https://indyfilmlibrary.com/2026/03/20/indy-film-library-finalises-2026-
	selection-for-two-day-amsterdam-showpiece/]\,\ncelebrating the very best w
	ork from artists around the world. Forming the first\npart of the organisa
	tion’s yearly awards shortlist\, a selection of international\nshorts will
	 kick off the event at Amsterdam’s Filmhuis Cavia\, on Saturday May\n2nd 2
	026.\n\nTwo programmes of shorts from Benelux-based filmmakers will follow
	\, as the\nseventh annual event looks to introduce audiences to films whic
	h they will not\nfind anywhere else\, by filmmakers who represent the futu
	re of the film industry\nin the Netherlands and beyond.\n\nAmong the movie
	s featured\, cinema lovers will have a chance to witness\nbreath-taking ex
	perimental\, documentary and narrative shorts. These include May\nBresser’
	s heartfelt coming of age drama Wat we achterlachten\; Sando Heijnen’s\nun
	nerving experimental thriller Eindewerk\; and Lisa Hukker‘s rip-roaring mu
	sical\ndocumentary Glock ’45: The Movie.\n\nAll films come with English su
	btitles for international viewers.\n\nIFL Chief Editor Jack Benjamin said 
	of the selection\, “This announcement seems\nto get harder every year – we
	 have been overwhelmed by the quality of work we\nreceived this season. Bu
	t whittling down a programme to the very best of the\nbest is exactly the 
	kind of headache we want at Indy Film Library. I am truly\nexcited to intr
	oduce these artists to our audiences this May.”\n\n\nFULL PROGRAM→ [https:
	//indyfilmlibrary.com/tickets-cavia-ifl-awards-showcase/]\n \n\nTickets:\n
	International shorts [https://amsterdamalternative.nl/tickets/21511] / Ben
	elux\nshorts [https://amsterdamalternative.nl/agenda/21520]\n\n 
URL:https://offbeat.amsterdam/event/indy-film-library-festival
GEO:52.381974;4.8703107
LOCATION:Filmhuis Cavia - Van Hallstraat 52-1\, 1051 HH Amsterdam
STATUS:CONFIRMED
CATEGORIES:amsterdam-west,documentary,experimental,festivals,film,shorts,st
	aatsliedenbuurt
X-ALT-DESC;FMTTYPE=text/html:<p>Indy Film Library (IFL) is hosting <a targe
	t="_blank" href="https://indyfilmlibrary.com/2026/03/20/indy-film-library-
	finalises-2026-selection-for-two-day-amsterdam-showpiece/">two days of fil
	m screenings</a>, celebrating the very best work from artists around the w
	orld. Forming the first part of the organisation’s yearly awards shortlist
	, a selection of international shorts will kick off the event at Amsterdam
	’s Filmhuis Cavia, on Saturday May 2nd 2026.<br><br>Two programmes of shor
	ts from Benelux-based filmmakers will follow, as the seventh annual event 
	looks to introduce audiences to films which they will not find anywhere el
	se, by filmmakers who represent the future of the film industry in the Net
	herlands and beyond.<br><br>Among the movies featured, cinema lovers will 
	have a chance to witness breath-taking experimental, documentary and narra
	tive shorts. These include May Bresser’s heartfelt coming of age drama <em
	>Wat we achterlachten</em>; Sando Heijnen’s unnerving experimental thrille
	r <em>Eindewerk</em>; and Lisa Hukker‘s rip-roaring musical documentary<em
	> Glock ’45: The Movie</em>.<br><br>All films come with English subtitles 
	for international viewers.<br><br>IFL Chief Editor Jack Benjamin said of t
	he selection, “This announcement seems to get harder every year – we have 
	been overwhelmed by the quality of work we received this season. But whitt
	ling down a programme to the very best of the best is exactly the kind of 
	headache we want at Indy Film Library. I am truly excited to introduce the
	se artists to our audiences this May.”</p><br><p><br><strong><a target="_b
	lank" href="https://indyfilmlibrary.com/tickets-cavia-ifl-awards-showcase/
	">FULL PROGRAM→</a></strong><br>&nbsp;</p><br><p><strong>Tickets:</strong>
	<br><a target="_blank" href="https://amsterdamalternative.nl/tickets/21511
	">International shorts</a> / <a target="_blank" href="https://amsterdamalt
	ernative.nl/agenda/21520">Benelux shorts</a></p><br><p>&nbsp;</p>
BEGIN:VALARM
ACTION:DISPLAY
DESCRIPTION:🎬 Indy Film Library Festival
TRIGGER:-PT1H
END:VALARM
END:VEVENT
END:VCALENDAR
