BEGIN:VCALENDAR
VERSION:2.0
CALSCALE:GREGORIAN
PRODID:adamgibbons/ics
METHOD:PUBLISH
X-PUBLISHED-TTL:PT1H
BEGIN:VEVENT
UID:20993@offbeat.amsterdam
SUMMARY:Indiesleaze w/ Adult DVD\, Sword II\, Alt Blk Era & PISS
DTSTAMP:20260420T193242Z
DTSTART:20260516T215900Z
DESCRIPTION:Club night with the best sleazy indie\, pop and electronic bang
	ers\n\nIf you have a ticket for London Calling on May 16\, you are welcome
	 to stay for\nIndiesleaze.\n\nThis program is also accessible for free wit
	h the Indiestadpas\n[https://www.paradiso.nl/landing/de-indiestadpas/27265
	74]. The pass is available\nvia the Indiestad website and allows you to at
	tend selected concerts in\nAmsterdam for a fixed annual fee. \n\nAfter Lon
	don Calling\, the Grote Zaal (Main Hall) transforms into Indiesleaze.\nThi
	s club night takes you on a nostalgic trip back to the raw energy of the\n
	early 2000s: electroclash\, indie\, nu-disco\, pop\, electro\, and dance-p
	unk.\n\nBut this isn’t just a throwback\; it’s a rebellious remix of then 
	and now. Think\nCharli XCX\, Kesha\, Fcukers\, and The Dare\, seamlessly w
	oven together with the\nunrivaled bangers of Daft Punk\, Grimes\, Justice\
	, M.I.A.\, and LCD Soundsystem.\n\nFor this edition\, the Indiesleaze DJs 
	will be joined by live acts Adult DVD\,\nSword II\, Alt Blk Era\, and PISS
	.
URL:https://offbeat.amsterdam/event/indiesleaze-with-adult-dvd-sword-ii-alt
	-blk-era-and-piss
GEO:52.36215535;4.883782439016489
LOCATION:Paradiso - Weteringschans 6\, 1017 SG Amsterdam
STATUS:CONFIRMED
CATEGORIES:amsterdam-centrum,concert,electroclash,electronics,indie,leidsep
	lein,live,punk
X-ALT-DESC;FMTTYPE=text/html:Club night with the best sleazy indie, pop and
	 electronic bangers<br><p>If you have a ticket for London Calling on May 1
	6, you are welcome to stay for Indiesleaze.</p><p>This program is also acc
	essible for free with the <a href="https://www.paradiso.nl/landing/de-indi
	estadpas/2726574"><strong>Indiestadpas</strong></a>. The pass is available
	 via the Indiestad website and allows you to attend selected concerts in A
	msterdam for a fixed annual fee.&nbsp;</p><br><p>After London Calling, the
	 Grote Zaal (Main Hall) transforms into <b><strong>Indiesleaze</strong></b
	>. This club night takes you on a nostalgic trip back to the raw energy of
	 the early 2000s: electroclash, indie, nu-disco, pop, electro, and dance-p
	unk.</p><p>But this isn’t just a throwback; it’s a rebellious remix of the
	n and now. Think Charli XCX, Kesha, Fcukers, and The Dare, seamlessly wove
	n together with the unrivaled bangers of Daft Punk, Grimes, Justice, M.I.A
	., and LCD Soundsystem.</p><p>For this edition, the Indiesleaze DJs will b
	e joined by live acts <b><strong>Adult DVD, Sword II, Alt Blk Era,</strong
	></b> and <b><strong>PISS</strong></b>.</p>
BEGIN:VALARM
ACTION:DISPLAY
DESCRIPTION:Indiesleaze w/ Adult DVD, Sword II, Alt Blk Era & PISS
TRIGGER:-PT1H
END:VALARM
END:VEVENT
END:VCALENDAR
