BEGIN:VCALENDAR
VERSION:2.0
CALSCALE:GREGORIAN
PRODID:adamgibbons/ics
METHOD:PUBLISH
X-PUBLISHED-TTL:PT1H
BEGIN:VEVENT
UID:20966@offbeat.amsterdam
SUMMARY:Indie Game Developers
DTSTAMP:20260420T181608Z
DTSTART:20260517T113000Z
DESCRIPTION:Doors: 13:30\, end: 18:00. Entry is free.\n\nMeet your fellow i
	ndie devs in a relaxed atmosphere\, have a drink and chat about\nvideo gam
	e development.\n\nAnyone in the game development community is welcome: dev
	elopers\, artists\,\nmusicians or simply videogame enthusiasts who are sta
	rting their game\ndevelopment journey. If you are working on some project 
	and would like to show\nit\, playtest it or get some feedback\, don’t be s
	hy and bring your laptop or\nnotes!\n\nWe also have a Discord channel [htt
	ps://discord.com/invite/StY3uCyAyR].
URL:https://offbeat.amsterdam/event/indie-game-developers
GEO:52.374158;4.8726931
LOCATION:De Nieuwe Anita - Frederik Hendrikstraat 111\, 1052 HN Amsterdam
STATUS:CONFIRMED
CATEGORIES:amsterdam-west,community,games,indie,westerpark
X-ALT-DESC;FMTTYPE=text/html:<p><strong>Doors: 13:30, end: 18:00. Entry is 
	free.</strong></p> <p><em>Meet your fellow indie devs in a relaxed atmosph
	ere, have a drink and chat about video game development.</em></p> <p>Anyon
	e in the game development community is welcome: developers, artists, music
	ians or simply videogame enthusiasts who are starting their game developme
	nt journey. If you are working on some project and would like to show it, 
	playtest it or get some feedback, don’t be shy and bring your laptop or no
	tes!</p> <p>We also have a <a target="_blank" href="https://discord.com/in
	vite/StY3uCyAyR">Discord channel</a>.</p>
BEGIN:VALARM
ACTION:DISPLAY
DESCRIPTION:Indie Game Developers
TRIGGER:-PT1H
END:VALARM
END:VEVENT
END:VCALENDAR
