BEGIN:VCALENDAR
VERSION:2.0
CALSCALE:GREGORIAN
PRODID:adamgibbons/ics
METHOD:PUBLISH
X-PUBLISHED-TTL:PT1H
BEGIN:VEVENT
UID:21100@offbeat.amsterdam
SUMMARY:IDA
DTSTAMP:20260422T183640Z
DTSTART:20261216T183000Z
DESCRIPTION:Dutch hyperpop artist
URL:https://offbeat.amsterdam/event/ida
GEO:52.36215535;4.883782439016489
LOCATION:Paradiso - Weteringschans 6\, 1017 SG Amsterdam
STATUS:CONFIRMED
CATEGORIES:amsterdam-centrum,leidseplein
X-ALT-DESC;FMTTYPE=text/html:Dutch hyperpop artist
BEGIN:VALARM
ACTION:DISPLAY
DESCRIPTION:IDA
TRIGGER:-PT1H
END:VALARM
END:VEVENT
END:VCALENDAR
