BEGIN:VCALENDAR
VERSION:2.0
CALSCALE:GREGORIAN
PRODID:adamgibbons/ics
METHOD:PUBLISH
X-PUBLISHED-TTL:PT1H
BEGIN:VEVENT
UID:21084@offbeat.amsterdam
SUMMARY:Hondenfokker + SHEGO FOXX
DTSTAMP:20260422T184505Z
DTSTART:20260622T173000Z
DESCRIPTION:HONDENFOKKER\n\n‍\n\nTussen Amsterdam en Groningen opereert Honde
	nfokker\, een losgeslagen drietal op\nhet snijvlak van rave en sloopdrang.
	 De band gooit scherpe gitaarriffs in een\nbrok van chaotische beats en an
	aloge synthbas. Gemaakt voor zowel de dansvloer\nals de moshpit\, met zang
	 die van pakkende hooks naar wilde improvisatie springt.\nHondenfokker zet
	 hun tanden erin en laat niet meer los.\n\n‍\n\nINSTAGRAM [https://www.insta
	gram.com/hondenfokker/] SPOTIFY\n[https://open.spotify.com/artist/0LHnPEv5
	VuyYivV2pg9Syb?si=3IJHCuZZSA2tSIvds2YIuA]\n\n‍\n\n‍\n\n\nSHEGO FOXX\n\n‍\n\nEen 
	electroclash-duo.\n\nZe creëren een muur van dromerige maar intense sounds
	capes\, waarin zware\nelektronische elementen worden gemengd met rauwe alt
	ernatieve hiphop.\n\nHun langverwachte tweede album verschijnt deze zomer\
	, gevolgd door een Europese\ntournee.\n\n‍\n\nINSTAGRAM [https://www.instagr
	am.com/shego_foxx/] SPOTIFY\n[https://open.spotify.com/artist/1sXu1xIE9j2H
	xXCRKyndLJ?si=pLu6Kn06Sw2PvfzhK-e2NA]
URL:https://offbeat.amsterdam/event/hondenfokker-shego-foxx
GEO:52.3528265;4.906568
LOCATION:Cinetol - Tolstraat 182\, 1074 VM Amsterdam
STATUS:CONFIRMED
CATEGORIES:amsterdam-zuid,de pijp,elektronisch,experimental,punk,rave
X-ALT-DESC;FMTTYPE=text/html:<h2>HONDENFOKKER</h2><p>‍</p><p>Tussen Amsterdam
	 en Groningen opereert Hondenfokker, een losgeslagen drietal op het snijvl
	ak van rave en sloopdrang. De band gooit scherpe gitaarriffs in een brok v
	an chaotische beats en analoge synthbas. Gemaakt voor zowel de dansvloer a
	ls de moshpit, met zang die van pakkende hooks naar wilde improvisatie spr
	ingt. Hondenfokker zet hun tanden erin en laat niet meer los.</p><p>‍</p><p>
	<a href="https://www.instagram.com/hondenfokker/">INSTAGRAM</a> <a href="h
	ttps://open.spotify.com/artist/0LHnPEv5VuyYivV2pg9Syb?si=3IJHCuZZSA2tSIvds
	2YIuA">SPOTIFY</a> </p><p>‍</p><p>‍</p><h2>SHEGO FOXX </h2><p>‍</p><p>Een electr
	oclash-duo.</p><p>Ze creëren een muur van dromerige maar intense soundscap
	es, waarin zware elektronische elementen worden gemengd met rauwe alternat
	ieve hiphop.</p><p>Hun langverwachte tweede album verschijnt deze zomer, g
	evolgd door een Europese tournee.</p><p>‍</p><p><a href="https://www.instagr
	am.com/shego_foxx/">INSTAGRAM</a> <a href="https://open.spotify.com/artist
	/1sXu1xIE9j2HxXCRKyndLJ?si=pLu6Kn06Sw2PvfzhK-e2NA">SPOTIFY</a> </p>
BEGIN:VALARM
ACTION:DISPLAY
DESCRIPTION:Hondenfokker + SHEGO FOXX
TRIGGER:-PT1H
END:VALARM
END:VEVENT
END:VCALENDAR
