BEGIN:VCALENDAR
VERSION:2.0
CALSCALE:GREGORIAN
PRODID:adamgibbons/ics
METHOD:PUBLISH
X-PUBLISHED-TTL:PT1H
BEGIN:VEVENT
UID:21129@offbeat.amsterdam
SUMMARY:HAIVAI B presents YOU\, ME & MUSIC
DTSTAMP:20260423T190340Z
DTSTART:20260611T180000Z
DESCRIPTION:Viral DJ hosts intimate Afro\, Baile Funk & Hip-Hop club night
URL:https://offbeat.amsterdam/event/haivai-b-presents-you-me-and-music
GEO:52.36215535;4.883782439016489
LOCATION:Paradiso - Weteringschans 6\, 1017 SG Amsterdam
STATUS:CONFIRMED
CATEGORIES:afro,amsterdam-centrum,dj,funk,leidseplein,music
X-ALT-DESC;FMTTYPE=text/html:Viral DJ hosts intimate Afro, Baile Funk & Hip
	-Hop club night
BEGIN:VALARM
ACTION:DISPLAY
DESCRIPTION:HAIVAI B presents YOU, ME & MUSIC
TRIGGER:-PT1H
END:VALARM
END:VEVENT
END:VCALENDAR
