BEGIN:VCALENDAR
VERSION:2.0
CALSCALE:GREGORIAN
PRODID:adamgibbons/ics
METHOD:PUBLISH
X-PUBLISHED-TTL:PT1H
BEGIN:VEVENT
UID:20965@offbeat.amsterdam
SUMMARY:Gumbo Night
DTSTAMP:20260420T180524Z
DTSTART:20260529T180000Z
DTEND:20260529T230000Z
DESCRIPTION:Doors: 20.00. Info about Line-up and tickets TBA!\n\nJoin the G
	umbo Night \, the steamiest party in town at De Nieuwe Anita. Your\nfavori
	te musicians laying it down\, the dj’s spinning the greatest New Orleans\n
	nuggets on 45 and 78 rpm and of course you\; Come and join us celebrate th
	e music\nof New Orleans!
URL:https://offbeat.amsterdam/event/gumbo-night-2
GEO:52.374158;4.8726931
LOCATION:De Nieuwe Anita - Frederik Hendrikstraat 111\, 1052 HN Amsterdam
STATUS:CONFIRMED
CATEGORIES:amsterdam-west,dj,music,party,westerpark
X-ALT-DESC;FMTTYPE=text/html:<p><strong>Doors: 20.00.<em> Info about Line-u
	p and tickets TBA!</em></strong></p> <p>Join <strong>the Gumbo Night</stro
	ng> , the steamiest party in town at <strong>De Nieuwe Anita</strong>. You
	r favorite musicians laying it down, the dj’s spinning the greatest New Or
	leans nuggets on 45 and 78 rpm and of course you; Come and join us celebra
	te the music of New Orleans!</p>
BEGIN:VALARM
ACTION:DISPLAY
DESCRIPTION:Gumbo Night
TRIGGER:-PT1H
END:VALARM
END:VEVENT
END:VCALENDAR
