BEGIN:VCALENDAR
VERSION:2.0
CALSCALE:GREGORIAN
PRODID:adamgibbons/ics
METHOD:PUBLISH
X-PUBLISHED-TTL:PT1H
BEGIN:VEVENT
UID:21047@offbeat.amsterdam
SUMMARY:Grote Geelstaart
DTSTAMP:20260421T183348Z
DTSTART:20260923T173000Z
DESCRIPTION:Psychedelic noiserock group from Zeeland\n\nGrote Geelstaart ba
	lances at all times like a tightrope walker threatening to\nlose his equil
	ibrium at any moment. Noise orchestrated in such a way that it\nonly keeps
	 amplifying itself\, to the point of bursting. They drag a mountain of\nin
	struments to every stage\, including two drum kits and a collection of ped
	als\nthat would make even a harsh-noise connoisseur take notice. With wry 
	sounds and\neven wryer time signatures\, a live show emerges that feels as
	 oppressive and\nstifling as a fish out of water. Grote Geelstaart bewitch
	es the audience with\nmanically danceable compositions that are fused toge
	ther live into a unified\nwhole. Of the smart shirts and ties with which t
	hey enter every stage\, nothing\nremains but the facade of a bunch of well
	-behaved guys. The band played at\nfestivals such as Valkhof\, Into The Gr
	eat Wide Open\, and Hit The City in the\nsummer of 2025\, leading up to th
	eir debut EP 'Van Reijnst'. With the release of\nthat EP\, they toured the
	 country at a rapid pace during the Popronde. 2026 began\nwith a successfu
	l show at Noorderslag. On April 17\, the band released 'Vracht\n7'\, the f
	irst single leading up to their next EP\, 'Wij Zinken'. The single is\nrel
	eased at the start of a busy festival summer\, with confirmed spots at Bes
	t\nKept Secret\, Dauwpop\, and Oerol in the Netherlands\, among others\, a
	nd multiple\ndates in Germany\, Belgium\, and Portugal. After the festival
	 season\, 'Wij\nZinken'\, Grote Geelstaart's second EP\, will be released 
	on September 18. With\nthis EP\, the band will embark on their first headl
	ine tour through the\nNetherlands and Belgium.
URL:https://offbeat.amsterdam/event/grote-geelstaart
GEO:52.36215535;4.883782439016489
LOCATION:Paradiso - Weteringschans 6\, 1017 SG Amsterdam
STATUS:CONFIRMED
CATEGORIES:amsterdam-centrum,festivals,leidseplein,live
X-ALT-DESC;FMTTYPE=text/html:Psychedelic noiserock group from Zeeland<br><b
	r><p>Grote Geelstaart balances at all times like a tightrope walker threat
	ening to lose his equilibrium at any moment. Noise orchestrated in such a 
	way that it only keeps amplifying itself, to the point of bursting. They d
	rag a mountain of instruments to every stage, including two drum kits and 
	a collection of pedals that would make even a harsh-noise connoisseur take
	 notice. With wry sounds and even wryer time signatures, a live show emerg
	es that feels as oppressive and stifling as a fish out of water. Grote Gee
	lstaart bewitches the audience with manically danceable compositions that 
	are fused together live into a unified whole. Of the smart shirts and ties
	 with which they enter every stage, nothing remains but the facade of a bu
	nch of well-behaved guys. The band played at festivals such as Valkhof, In
	to The Great Wide Open, and Hit The City in the summer of 2025, leading up
	 to their debut EP 'Van Reijnst'. With the release of that EP, they toured
	 the country at a rapid pace during the Popronde. 2026 began with a succes
	sful show at Noorderslag. On April 17, the band released 'Vracht 7', the f
	irst single leading up to their next EP, 'Wij Zinken'. The single is relea
	sed at the start of a busy festival summer, with confirmed spots at Best K
	ept Secret, Dauwpop, and Oerol in the Netherlands, among others, and multi
	ple dates in Germany, Belgium, and Portugal. After the festival season, 'W
	ij Zinken', Grote Geelstaart's second EP, will be released on September 18
	. With this EP, the band will embark on their first headline tour through 
	the Netherlands and Belgium.</p>
BEGIN:VALARM
ACTION:DISPLAY
DESCRIPTION:Grote Geelstaart
TRIGGER:-PT1H
END:VALARM
END:VEVENT
END:VCALENDAR
