BEGIN:VCALENDAR
VERSION:2.0
CALSCALE:GREGORIAN
PRODID:adamgibbons/ics
METHOD:PUBLISH
X-PUBLISHED-TTL:PT1H
BEGIN:VEVENT
UID:21033@offbeat.amsterdam
SUMMARY:🎬 Greek Film Festival – Day 2
DTSTAMP:20260421T184017Z
DTSTART:20260522T220000Z
DESCRIPTION:The first edition of the Greek Film Festival is here!\n\nThe Gr
	eek Film Festival in the Netherlands (GRFFNL)\, exclusively at Filmhuis\nC
	avia [https://filmhuiscavia.nl] and the Kempernaerstudio\n[https://www.kem
	penaerstudio.nl/]\, is a new cultural initiative dedicated to\nshowcasing 
	Greek cinema to audiences in the Netherlands. The festival presents a\ncur
	ated selection of films by Greek directors\, including fiction\, documenta
	ries\,\nand other cinematic forms that reflect the diversity and creativit
	y of Greek\nstorytelling.\n\nThe first edition of GRFFNL aims to establish
	 a platform for cultural exchange\nthrough cinema\, connecting filmmakers\
	, film professionals\, and audiences from\nGreece and the Netherlands. By 
	presenting both contemporary and classic works\,\nthe festival highlights 
	the evolving voice of Greek cinema and its place within\nan international 
	context.\n\nTaking place in Amsterdam\, GRFFNL offers film screenings alon
	gside discussions\nand special events that invite audiences to engage with
	 cinema beyond the\nscreen. The festival is open to all film lovers and do
	es not require prior\nknowledge of Greek language or culture. Films are pr
	esented in Greek or English\nwith English subtitles.\n\nGRFFNL is organise
	d by a dedicated team with a passion for film\, culture\, and\ncross-cultu
	ral dialogue\, and aspires to grow into a recurring meeting point for\nGre
	ek cinema in the Netherlands.\n \n\nFor more information check out the web
	site [http://www.grffnl.nl].\n\nTicket pre-sale will start on the 1st of M
	ay. Stay tuned!\n 
URL:https://offbeat.amsterdam/event/greek-film-festival-day-2
GEO:52.381974;4.8703107
LOCATION:Filmhuis Cavia - Van Hallstraat 52-1\, 1051 HH Amsterdam
STATUS:CONFIRMED
CATEGORIES:amsterdam-west,discussion,documentary,festivals,film,staatsliede
	nbuurt
X-ALT-DESC;FMTTYPE=text/html:<p>The first edition of the Greek Film Festiva
	l is here!<br><br>The Greek Film Festival in the Netherlands (GRFFNL), exc
	lusively at <a href="https://filmhuiscavia.nl">Filmhuis Cavia</a> and the 
	<a href="https://www.kempenaerstudio.nl/">Kempernaerstudio</a>, is a new c
	ultural initiative dedicated to showcasing Greek cinema to audiences in th
	e Netherlands. The festival presents a curated selection of films by Greek
	 directors, including fiction, documentaries, and other cinematic forms th
	at reflect the diversity and creativity of Greek storytelling.<br><br>The 
	first edition of GRFFNL aims to establish a platform for cultural exchange
	 through cinema, connecting filmmakers, film professionals, and audiences 
	from Greece and the Netherlands. By presenting both contemporary and class
	ic works, the festival highlights the evolving voice of Greek cinema and i
	ts place within an international context.<br><br>Taking place in Amsterdam
	, GRFFNL offers film screenings alongside discussions and special events t
	hat invite audiences to engage with cinema beyond the screen. The festival
	 is open to all film lovers and does not require prior knowledge of Greek 
	language or culture. Films are presented in Greek or English with English 
	subtitles.<br><br>GRFFNL is organised by a dedicated team with a passion f
	or film, culture, and cross-cultural dialogue, and aspires to grow into a 
	recurring meeting point for Greek cinema in the Netherlands.<br>&nbsp;</p>
	<br><p>For more information check out the <a target="_blank" href="http://
	www.grffnl.nl">website</a>.<br><br>Ticket pre-sale will start on the 1st o
	f May. Stay tuned!<br>&nbsp;</p>
BEGIN:VALARM
ACTION:DISPLAY
DESCRIPTION:🎬 Greek Film Festival – Day 2
TRIGGER:-PT1H
END:VALARM
END:VEVENT
END:VCALENDAR
