BEGIN:VCALENDAR
VERSION:2.0
CALSCALE:GREGORIAN
PRODID:adamgibbons/ics
METHOD:PUBLISH
X-PUBLISHED-TTL:PT1H
BEGIN:VEVENT
UID:21121@offbeat.amsterdam
SUMMARY:Gershwin Tribute x Isaac Turner Quintet
DTSTAMP:20260423T185018Z
DTSTART:20260521T190000Z
DTEND:20260521T220000Z
DESCRIPTION:Gershwin remains one of — if not the most — celebrated American
	 composers of the\nlast century\, leaving us timeless works such as An Ame
	rican in Paris\, Rhapsody\nin Blue\, and Summertime. Yet these beloved pie
	ces are only a taste of a much\nlarger catalogue. The Isaac Turner Quintet
	 delves into Gershwin’s lesser-known\ncompositions while honoring his most
	 recognizable ones\, guiding listeners\nthrough the vibrant sound world of
	 early 20th-century Broadway in a quintet\nsetting.\n\nIsaac Turner is a y
	oung saxophonist from Atlanta\, Georgia. Raised by an Italian\nmother and 
	a father from the Deep South of the United States\, he grew up\nsurrounded
	 by layered histories\, languages\, and traditions that shaped the way\nhe
	 hears and understands music. This background led Isaac to see music as a\
	ndeeply communal activity\, one rooted in listening\, storytelling\, and s
	hared\nexperience. Through Jazz\, he aims to create performances with his 
	Quintet that\nbring people together and reflect the cultural conversations
	 that have\ninfluenced him throughout his life.\n\nIsaac Turner - Tenor sa
	xophone\n\nSadewa Bekker - Trumpet\n\nYorick Geiller - Piano\n\nDennis Lev
	in - Bass\n\nMorten Brattgård - Drums
URL:https://offbeat.amsterdam/event/gershwin-tribute-x-isaac-turner-quintet
GEO:52.3691458;4.8950558
LOCATION:Contra - Oudezijds Achterburgwal 235\, 1012 DL Amsterdam
STATUS:CONFIRMED
CATEGORIES:amsterdam-centrum,blues,burgwallen,jazz,music,performance,storyt
	elling
X-ALT-DESC;FMTTYPE=text/html:<p>Gershwin remains one of — if not the most —
	 celebrated American composers of the last century, leaving us timeless wo
	rks such as An American in Paris, Rhapsody in Blue, and Summertime. Yet th
	ese beloved pieces are only a taste of a much larger catalogue. The Isaac 
	Turner Quintet delves into Gershwin’s lesser-known compositions while hono
	ring his most recognizable ones, guiding listeners through the vibrant sou
	nd world of early 20th-century Broadway in a quintet setting.</p><p>Isaac 
	Turner is a young saxophonist from Atlanta, Georgia. Raised by an Italian 
	mother and a father from the Deep South of the United States, he grew up s
	urrounded by layered histories, languages, and traditions that shaped the 
	way he hears and understands music. This background led Isaac to see music
	 as a deeply communal activity, one rooted in listening, storytelling, and
	 shared experience. Through Jazz, he aims to create performances with his 
	Quintet that bring people together and reflect the cultural conversations 
	that have influenced him throughout his life.</p><p>Isaac Turner - Tenor s
	axophone</p><p>Sadewa Bekker - Trumpet</p><p>Yorick Geiller - Piano</p><p>
	Dennis Levin - Bass</p><p>Morten Brattgård - Drums</p>
BEGIN:VALARM
ACTION:DISPLAY
DESCRIPTION:Gershwin Tribute x Isaac Turner Quintet
TRIGGER:-PT1H
END:VALARM
END:VEVENT
END:VCALENDAR
