BEGIN:VCALENDAR
VERSION:2.0
CALSCALE:GREGORIAN
PRODID:adamgibbons/ics
METHOD:PUBLISH
X-PUBLISHED-TTL:PT1H
BEGIN:VEVENT
UID:21135@offbeat.amsterdam
SUMMARY:GEROEZEMOES
DTSTAMP:20260423T200937Z
DTSTART:20260508T180000Z
DTEND:20260509T013000Z
DESCRIPTION:TICKETS\n[https://www.eventbrite.com/e/geroezemoes-2-tickets-19
	86449651381?aff=oddtdtcreator]\n\nGeroezemoes part two\n\nWe go way back\,
	 way back to the timeszz where fun was a must and vibing a part\nof life. 
	Enjoy this cute and cool get togheter where lips talk and feets dance.\nDo
	nt be shy\, be a maniac \n\nSlay\n\nPs : twisterstage will be there.\n\n20
	:00\n\nToekomstmuziek: Primo's\n\nDanzigerbocht 29\n\nTICKETS\n[https://ww
	w.eventbrite.com/e/geroezemoes-2-tickets-1986449651381?aff=oddtdtcreator]
URL:https://offbeat.amsterdam/event/geroezemoes
GEO:52.3966283;4.8755183
LOCATION:Toekomstmuziek - Danzigerbocht 29\, 1013 AM Amsterdam
STATUS:CONFIRMED
CATEGORIES:amsterdam-west,dance,electronic,minervahaven,talk,westpoort
X-ALT-DESC;FMTTYPE=text/html:<p><a href="https://www.eventbrite.com/e/geroe
	zemoes-2-tickets-1986449651381?aff=oddtdtcreator">TICKETS</a></p><br><p>Ge
	roezemoes part two</p><br><p>We go way back, way back to the timeszz where
	 fun was a must and vibing a part of life.&nbsp;Enjoy this cute and cool g
	et togheter where lips talk and feets dance. Dont be shy, be a maniac&nbsp
	;</p><br><p>Slay</p><br><p>Ps : twisterstage will be there.</p><br><p>20:0
	0</p><br><p>Toekomstmuziek: Primo's</p><br><p>Danzigerbocht 29</p><br><p><
	a href="https://www.eventbrite.com/e/geroezemoes-2-tickets-1986449651381?a
	ff=oddtdtcreator">TICKETS</a></p>
BEGIN:VALARM
ACTION:DISPLAY
DESCRIPTION:GEROEZEMOES
TRIGGER:-PT1H
END:VALARM
END:VEVENT
END:VCALENDAR
