BEGIN:VCALENDAR
VERSION:2.0
CALSCALE:GREGORIAN
PRODID:adamgibbons/ics
METHOD:PUBLISH
X-PUBLISHED-TTL:PT1H
BEGIN:VEVENT
UID:21099@offbeat.amsterdam
SUMMARY:Gallowstreet
DTSTAMP:20260422T183639Z
DTSTART:20270124T193000Z
DESCRIPTION:Brassband from Amsterdam presents new project\n\nGallowstreet h
	as been a household name for over a decade\, with the\nAmsterdam-based bra
	ss band widely known for their high-energy horn sections and\nlong-standin
	g residency at Paradiso. On Sunday\, January 24th\, they return to our\nMa
	in Hall to present their latest project\, 'Future Brass.' This innovative\
	,\nsound-first approach completely flips the conventions of brass music on
	 its\nhead. Instead of arranging existing songs or simply adding effects t
	o an\ninstrument\, the creative process begins with the sonic identity of 
	a modern\nrecord. The goal is to capture the groove\, texture\, and impact
	 of genres like\nhip-hop and electronics live through brass. By writing li
	ke a band and thinking\nlike a producer\, the horns no longer serve as mer
	e decoration but as an\nessential part of the sound design. The result is 
	a powerful live experience\nthat seamlessly fuses the physical energy of a
	 brass band with the precision of\ncontemporary studio productions.
URL:https://offbeat.amsterdam/event/gallowstreet
GEO:52.36215535;4.883782439016489
LOCATION:Paradiso - Weteringschans 6\, 1017 SG Amsterdam
STATUS:CONFIRMED
CATEGORIES:amsterdam-centrum,electronics,leidseplein,live,music
X-ALT-DESC;FMTTYPE=text/html:Brassband from Amsterdam presents new project<
	br><br><p>Gallowstreet has been a household name for over a decade, with t
	he Amsterdam-based brass band widely known for their high-energy horn sect
	ions and long-standing residency at Paradiso. On Sunday, January 24th, the
	y return to our Main Hall to present their latest project, 'Future Brass.'
	 This innovative, sound-first approach completely flips the conventions of
	 brass music on its head. Instead of arranging existing songs or simply ad
	ding effects to an instrument, the creative process begins with the sonic 
	identity of a modern record. The goal is to capture the groove, texture, a
	nd impact of genres like hip-hop and electronics live through brass. By wr
	iting like a band and thinking like a producer, the horns no longer serve 
	as mere decoration but as an essential part of the sound design. The resul
	t is a powerful live experience that seamlessly fuses the physical energy 
	of a brass band with the precision of contemporary studio productions.</p>
BEGIN:VALARM
ACTION:DISPLAY
DESCRIPTION:Gallowstreet
TRIGGER:-PT1H
END:VALARM
END:VEVENT
END:VCALENDAR
