BEGIN:VCALENDAR
VERSION:2.0
CALSCALE:GREGORIAN
PRODID:adamgibbons/ics
METHOD:PUBLISH
X-PUBLISHED-TTL:PT1H
BEGIN:VEVENT
UID:21262@offbeat.amsterdam
SUMMARY:Friday Punk Night / Vrankrijk Benefit Concert
DTSTAMP:20260425T181054Z
DTSTART:20260508T170000Z
DTEND:20260509T000000Z
DESCRIPTION:Food from 19:00 till 21:00\n\nBenefit concert 21:00\nBands :\nF
	uneral Damage from Berlin\n\nhttps://funeraldamage.bandcamp.com [https://f
	uneraldamage.bandcamp.com]\n\nCivilian Thrower from Lyon\n\nhttps://civili
	anthrower.bandcamp.com [https://civilianthrower.bandcamp.com]\n\nNN 17 fro
	m Utrecht\n\nhttps://nn17.bandcamp.com/album/demo-2025\n[https://nn17.band
	camp.com/album/demo-2025]
URL:https://offbeat.amsterdam/event/friday-punk-night-vrankrijk-benefit-con
	cert
GEO:52.3716913;4.8892221
LOCATION:Vrankrijk - Spuistraat 216\, 1012 VT Amsterdam
STATUS:CONFIRMED
CATEGORIES:amsterdam-centrum,concert,food,punk,social,spui,voku
X-ALT-DESC;FMTTYPE=text/html:<p>Food from 19:00 till 21:00</p> <p>Benefit c
	oncert 21:00<br> Bands :<br> Funeral Damage from Berlin</p> <p><a target="
	_blank" href="https://funeraldamage.bandcamp.com">https://funeraldamage.ba
	ndcamp.com</a></p> <p>Civilian Thrower from Lyon</p> <p><a target="_blank"
	 href="https://civilianthrower.bandcamp.com">https://civilianthrower.bandc
	amp.com</a></p> <p>NN 17 from Utrecht</p> <p><a target="_blank" href="http
	s://nn17.bandcamp.com/album/demo-2025">https://nn17.bandcamp.com/album/dem
	o-2025</a></p>
BEGIN:VALARM
ACTION:DISPLAY
DESCRIPTION:Friday Punk Night / Vrankrijk Benefit Concert
TRIGGER:-PT1H
END:VALARM
END:VEVENT
END:VCALENDAR
