BEGIN:VCALENDAR
VERSION:2.0
CALSCALE:GREGORIAN
PRODID:adamgibbons/ics
METHOD:PUBLISH
X-PUBLISHED-TTL:PT1H
BEGIN:VEVENT
UID:21260@offbeat.amsterdam
SUMMARY:Friday Punk Night
DTSTAMP:20260425T180043Z
DTSTART:20260724T170000Z
DTEND:20260725T000000Z
DESCRIPTION:Food from 19:00 till 21:00\n\nNot every week live music\n\nEver
	y Friday and occasionally on other days (check agenda)\, the dirty\, unsha
	ven\,\ndrinking\, smoking scum members of our infamous crust-punk collecti
	ve is here\nserving you a combination of never heard or underestimated pun
	k/crust/metal\ntunes. In fucked up gentrified Amsterdam we want to create 
	a space for those\nbands and initiatives that would otherwise not be able 
	to perform because of\ncommercial greed and moneymaking assholes.
URL:https://offbeat.amsterdam/event/friday-punk-night-73
GEO:52.3716913;4.8892221
LOCATION:Vrankrijk - Spuistraat 216\, 1012 VT Amsterdam
STATUS:CONFIRMED
CATEGORIES:amsterdam-centrum,food,live,metal,music,punk,social,spui,voku
X-ALT-DESC;FMTTYPE=text/html:<p>Food from 19:00 till 21:00</p> <p>Not every
	 week live music</p> <p>Every Friday and occasionally on other days (check
	 agenda), the dirty, unshaven, drinking, smoking scum members of our infam
	ous crust-punk collective is here serving you a combination of never heard
	 or underestimated punk/crust/metal tunes. In fucked up gentrified Amsterd
	am we want to create a space for those bands and initiatives that would ot
	herwise not be able to perform because of commercial greed and moneymaking
	 assholes.</p>
BEGIN:VALARM
ACTION:DISPLAY
DESCRIPTION:Friday Punk Night
TRIGGER:-PT1H
END:VALARM
END:VEVENT
END:VCALENDAR
