BEGIN:VCALENDAR
VERSION:2.0
CALSCALE:GREGORIAN
PRODID:adamgibbons/ics
METHOD:PUBLISH
X-PUBLISHED-TTL:PT1H
BEGIN:VEVENT
UID:20974@offbeat.amsterdam
SUMMARY:Friday Night Live x IMB Special 4tet
DTSTAMP:20260420T181022Z
DTSTART:20260424T193000Z
DTEND:20260424T220000Z
DESCRIPTION:'IMB Special 4tet' is a cutting-edge ensemble based in Amsterda
	m that stands out\nfor its innovative original compositions\, arrangements
	\, and dynamic\nimprovisation. With a fusion of jazz traditions and avant-
	garde experimentation\,\nthe quartet's performances captivate audiences at
	 every performance.\n\nThe band has developed a distinctive style in which
	 creative interaction\, the\nfreedom afforded by their unusual lineup\, an
	d compositional discipline coexist\nto create a fascinating musical narrat
	ive.\n
URL:https://offbeat.amsterdam/event/friday-night-live-x-imb-special-4tet
GEO:52.3691458;4.8950558
LOCATION:Contra - Oudezijds Achterburgwal 235\, 1012 DL Amsterdam
STATUS:CONFIRMED
CATEGORIES:amsterdam-centrum,burgwallen,improv,jazz,live,performance
X-ALT-DESC;FMTTYPE=text/html:<p>'IMB Special 4tet' is a cutting-edge ensemb
	le based in Amsterdam that stands out for its innovative original composit
	ions, arrangements, and dynamic improvisation. With a fusion of jazz tradi
	tions and avant-garde experimentation, the quartet's performances captivat
	e audiences at every performance.</p><p>The band has developed a distincti
	ve style in which creative interaction, the freedom afforded by their unus
	ual lineup, and compositional discipline coexist to create a fascinating m
	usical narrative.</p><br>
BEGIN:VALARM
ACTION:DISPLAY
DESCRIPTION:Friday Night Live x IMB Special 4tet
TRIGGER:-PT1H
END:VALARM
END:VEVENT
END:VCALENDAR
