BEGIN:VCALENDAR
VERSION:2.0
CALSCALE:GREGORIAN
PRODID:adamgibbons/ics
METHOD:PUBLISH
X-PUBLISHED-TTL:PT1H
BEGIN:VEVENT
UID:21119@offbeat.amsterdam
SUMMARY:Friday Night Live
DTSTAMP:20260423T184706Z
DTSTART:20260424T215900Z
DTEND:20260425T000000Z
DESCRIPTION:Friday Night Live is the long awaited late night jam session re
	fuge for jazz\nplayers and lovers alike! Kick-off is at 00:00 by host Linu
	s Eppinger is a\nyoung\, soulful jazz guitarist in the tradition of Wes Mo
	ntgomery and George\nBenson and one of the most active musicians on Amster
	dam‘s jazz scene. He leads\nhis own quartet and composes for his high ener
	gy hyper stylish R&B band The\nHi-Stakes. Friday Night Live seeks out to b
	ecome both an inspiring as well as\nhighly entertaining institution of Ams
	terdam!\n\nFree entry if you bring your instrument! \n\nThis week features
	\;\n\nKasper Sundby - sax\n\nLinus Eppinger - gitaar\n\nTies Laarakker - b
	as\n\nSamuel Winter - drums
URL:https://offbeat.amsterdam/event/friday-night-live-1
GEO:52.3691458;4.8950558
LOCATION:Contra - Oudezijds Achterburgwal 235\, 1012 DL Amsterdam
STATUS:CONFIRMED
CATEGORIES:amsterdam-centrum,burgwallen,jam session,jazz,live,rnb
X-ALT-DESC;FMTTYPE=text/html:<p>Friday Night Live is the long awaited late 
	night jam session refuge for jazz players and lovers alike! Kick-off is at
	 00:00 by host Linus Eppinger is a young, soulful jazz guitarist in the tr
	adition of Wes Montgomery and George Benson and one of the most active mus
	icians on Amsterdam‘s jazz scene. He leads his own quartet and composes fo
	r his high energy hyper stylish R&amp;B band The Hi-Stakes.&nbsp;Friday Ni
	ght Live seeks out to become both an inspiring as well as highly entertain
	ing institution of Amsterdam!</p><p>Free entry if you bring your instrumen
	t!&nbsp;</p><p>This week features;</p><p>Kasper Sundby - sax</p><p>Linus E
	ppinger - gitaar</p><p>Ties Laarakker - bas</p><p>Samuel Winter - drums</p
	>
BEGIN:VALARM
ACTION:DISPLAY
DESCRIPTION:Friday Night Live
TRIGGER:-PT1H
END:VALARM
END:VEVENT
END:VCALENDAR
