BEGIN:VCALENDAR
VERSION:2.0
CALSCALE:GREGORIAN
PRODID:adamgibbons/ics
METHOD:PUBLISH
X-PUBLISHED-TTL:PT1H
BEGIN:VEVENT
UID:21085@offbeat.amsterdam
SUMMARY:Friday Jazz Bar x Oscar Ployart Trio
DTSTAMP:20260422T184511Z
DTSTART:20260501T200000Z
DTEND:20260501T220000Z
DESCRIPTION:OP Trio is an international constellation that\, with a focus o
	n groove and\nswing\, plays music rooted in the idioms and colours of jazz
	 music from the 50s\nand 60s. Their performances are vibrant and imaginati
	ve\, and with a touch of\nromanticism they invite you to enjoy some of the
	 most beautiful melodies ever\nwritten. For this concert they will pay hom
	age to the Swedish pianist and\ncomposer Jan Johansson. \n\nOscar Ployart 
	- piano\n\nOlle Lannér Risenfors - double bass\n\nGiacomo Camilletti - dru
	ms
URL:https://offbeat.amsterdam/event/friday-jazz-bar-x-oscar-ployart-trio
GEO:52.3691458;4.8950558
LOCATION:Contra - Oudezijds Achterburgwal 235\, 1012 DL Amsterdam
STATUS:CONFIRMED
CATEGORIES:amsterdam-centrum,burgwallen,concert,jazz,music,performance
X-ALT-DESC;FMTTYPE=text/html:<p>OP Trio is an international constellation t
	hat, with a focus on groove and swing, plays music rooted in the idioms an
	d colours of jazz music from the 50s and 60s. Their performances are vibra
	nt and imaginative, and with a touch of romanticism they invite you to enj
	oy some of the most beautiful melodies ever written. For this concert they
	 will pay homage to the Swedish pianist and composer Jan Johansson.&nbsp;<
	/p><p>Oscar Ployart - piano</p><p>Olle Lannér Risenfors - double bass</p><
	p>Giacomo Camilletti - drums</p>
BEGIN:VALARM
ACTION:DISPLAY
DESCRIPTION:Friday Jazz Bar x Oscar Ployart Trio
TRIGGER:-PT1H
END:VALARM
END:VEVENT
END:VCALENDAR
