BEGIN:VCALENDAR
VERSION:2.0
CALSCALE:GREGORIAN
PRODID:adamgibbons/ics
METHOD:PUBLISH
X-PUBLISHED-TTL:PT1H
BEGIN:VEVENT
UID:21114@offbeat.amsterdam
SUMMARY:Frenzy x Echos of Amsterdam Afterparty
DTSTAMP:20260423T001319Z
DTSTART:20260620T210000Z
DTEND:20260621T060000Z
DESCRIPTION:Frenzy x Echo's of Amsterdam Afterparty - 20.06.2026\n\nThe fes
	tival sun sets\, but the story is far from over.\n\nAs the dust settles\, 
	we drift back to the dark to keep the momentum alive. For\nthis edition\, 
	we’re rooting the energy in our own soil\, bringing together a\nheavy stac
	k of local heroes to command the booth. Further guided by French\npowerhou
	se Mac Declos alongside an exclusive Festival Mystery Guest - a secret\nwe
	’re keeping under wraps until the lights go down.\n\nThe mystery awaits. S
	ee you in the fog. 💜\n\nLine-up [A-Z]:\nFestival Mystery Guest\, Flits (Li
	ve)\, Karina Schneider\, Mac Declos\, Thoms Traxx\n& Twiena\n\nTickets (ex
	cl. service costs): link in bio\n€17.50 - Early\n€26.50 - Regular\n€60.00 
	- Festival + After Combi\n\nGeneral Information:\nDate: 20-06-2026\nTime: 
	23:00 - END\n\nLocation: RADION Amsterdam\, Louwesweg 1\, 1066EA\, Amsterd
	am
URL:https://offbeat.amsterdam/event/frenzy-x-echos-of-amsterdam-afterparty
GEO:52.3456292;4.8255446
LOCATION:Radion - Louwesweg 1\, 1066 EA Amsterdam
STATUS:CONFIRMED
CATEGORIES:amsterdam nieuw-west,festivals,live,slotervaart,stories
X-ALT-DESC;FMTTYPE=text/html:<p>Frenzy x Echo's of Amsterdam Afterparty - 2
	0.06.2026</p><p>The festival sun sets, but the story is far from over.</p>
	<p>As the dust settles, we drift back to the dark to keep the momentum ali
	ve. For this edition, we’re rooting the energy in our own soil, bringing t
	ogether a heavy stack of local heroes to command the booth. Further guided
	 by French powerhouse Mac Declos alongside an exclusive Festival Mystery G
	uest - a secret we’re keeping under wraps until the lights go down.</p><p>
	The mystery awaits. See you in the fog. 💜</p><p>Line-up [A-Z]:<br>Festival
	 Mystery Guest, Flits (Live), Karina Schneider, Mac Declos, Thoms Traxx &a
	mp; Twiena</p><p>Tickets (excl. service costs): link in bio<br>€17.50 - Ea
	rly<br>€26.50 - Regular<br>€60.00 - Festival + After Combi</p><p>General I
	nformation:<br>Date: 20-06-2026<br>Time: 23:00 - END</p><p>Location: RADIO
	N Amsterdam, Louwesweg 1, 1066EA, Amsterdam</p>
BEGIN:VALARM
ACTION:DISPLAY
DESCRIPTION:Frenzy x Echos of Amsterdam Afterparty
TRIGGER:-PT1H
END:VALARM
END:VEVENT
END:VCALENDAR
