BEGIN:VCALENDAR
VERSION:2.0
CALSCALE:GREGORIAN
PRODID:adamgibbons/ics
METHOD:PUBLISH
X-PUBLISHED-TTL:PT1H
BEGIN:VEVENT
UID:20992@offbeat.amsterdam
SUMMARY:French 79
DTSTAMP:20260420T192619Z
DTSTART:20270227T190000Z
DESCRIPTION:French synth-wave
URL:https://offbeat.amsterdam/event/french-79
GEO:52.36215535;4.883782439016489
LOCATION:Paradiso - Weteringschans 6\, 1017 SG Amsterdam
STATUS:CONFIRMED
CATEGORIES:amsterdam-centrum,leidseplein
X-ALT-DESC;FMTTYPE=text/html:French synth-wave
BEGIN:VALARM
ACTION:DISPLAY
DESCRIPTION:French 79
TRIGGER:-PT1H
END:VALARM
END:VEVENT
END:VCALENDAR
