BEGIN:VCALENDAR
VERSION:2.0
CALSCALE:GREGORIAN
PRODID:adamgibbons/ics
METHOD:PUBLISH
X-PUBLISHED-TTL:PT1H
BEGIN:VEVENT
UID:21227@offbeat.amsterdam
SUMMARY:Francesco Marcheselli & Friends Live in Concert
DTSTAMP:20260425T181107Z
DTSTART:20260528T170000Z
DESCRIPTION:Francesco Marcheselli is an Italian multi-instrumentalist and c
	omposer who began\nstudying classical music and playing the oboe at an ear
	ly age. He graduated in\nclassical oboe from the Conservatory of Milan “Gi
	useppe Verdi\,” under the\nguidance of Diego Dini Ciacci\n[https://www.con
	smi.it/it/didattica/docenti/5346/dini-ciacci-diego].\n\nFrom a young age\,
	 his passion for blues music inspired him to expand his musical\nhorizons 
	beyond classical\, embracing blues\, jazz\, and pop. In addition to\nperfo
	rming with various orchestras. including Jong Metropole\n[https://www.jong
	metropole.nl/orkest/musici-2024] in 2024.\n\nFrancesco has played in blues
	 bands\, jazz ensembles\, and big bands. In 2023\, he\nperformed alongside
	 Gianluigi Trovesi and with Claudio Angeleri at the Blue Note\nof Milan\n[
	https://www.bluenotemilano.com/evento/concerto-cdpm-europe-orchestra-25-ge
	nnaio-2023-milano/]\nin 2023.\n\nIn 2024 he was featured on the track “I W
	ant Jesus to Walk With Me”\n[https://www.youtube.com/watch?v=U3khTb_rphA] 
	in the album Healing Blues by\nGrammy-nominated Italian harmonica player F
	abrizio Poggi\n[https://www.chickenmambo.com/]\, alongside Sharon White\, 
	vocalist of Eric\nClapton.\n\nFrancesco is currently studying jazz at the 
	Conservatory of Amsterdam with Joris\nRoelofs [https://www.jorisroelofs.co
	m/]\, where he recorded his debut\nsinger-songwriter EP of original music\
	, Love Consequences.\n\nhttps://www.instagram.com/francescomarcheselli/\n[
	https://www.instagram.com/francescomarcheselli/]\nhttps://www.francescomar
	cheselli.nl/ [https://www.francescomarcheselli.nl/]\n\n𝐈𝐍𝐅𝐎\n\nDate: 28th 
	of May 2026\nTime: 19.00 - 23.00\nLocation: Toekomstmuziek\, Danzigerbocht
	 29\, Amsterdam\nEntrance: Tickets
URL:https://offbeat.amsterdam/event/francesco-marcheselli-and-friends-live-
	in-concert
GEO:52.3966283;4.8755183
LOCATION:Toekomstmuziek - Danzigerbocht 29\, 1013 AM Amsterdam
STATUS:CONFIRMED
CATEGORIES:amsterdam-west,blues,concert,jazz,live,live music,minervahaven,m
	usic,orchestra,westpoort
X-ALT-DESC;FMTTYPE=text/html:<p>Francesco Marcheselli is an Italian multi-i
	nstrumentalist and composer who began studying classical music and playing
	 the oboe at an early age. He graduated in classical oboe from the Conserv
	atory of Milan “Giuseppe Verdi,” under the guidance of <a href="https://ww
	w.consmi.it/it/didattica/docenti/5346/dini-ciacci-diego">Diego Dini Ciacci
	</a>.</p><br><p>From a young age, his passion for blues music inspired him
	 to expand his musical horizons beyond classical, embracing blues, jazz, a
	nd pop. In addition to performing with various orchestras. including <a hr
	ef="https://www.jongmetropole.nl/orkest/musici-2024">Jong Metropole</a> in
	 2024.</p><br><p>Francesco has played in blues bands, jazz ensembles, and 
	big bands. In 2023, he performed alongside Gianluigi Trovesi and with Clau
	dio Angeleri at the <a href="https://www.bluenotemilano.com/evento/concert
	o-cdpm-europe-orchestra-25-gennaio-2023-milano/">Blue Note of Milan</a> in
	 2023.</p><br><p>In 2024 he was featured on the track <a href="https://www
	.youtube.com/watch?v=U3khTb_rphA">“I Want Jesus to Walk With Me”</a> in th
	e album Healing Blues by Grammy-nominated Italian harmonica player <a href
	="https://www.chickenmambo.com/">Fabrizio Poggi</a>, alongside Sharon Whit
	e, vocalist of Eric Clapton.</p><br><p>Francesco is currently studying jaz
	z at the Conservatory of Amsterdam with <a href="https://www.jorisroelofs.
	com/">Joris Roelofs</a>, where he recorded his debut singer-songwriter EP 
	of original music, Love Consequences.  </p><br><p><a href="https://www.ins
	tagram.com/francescomarcheselli/">https://www.instagram.com/francescomarch
	eselli/</a><br><br><a href="https://www.francescomarcheselli.nl/">https://
	www.francescomarcheselli.nl/</a>  </p><br><p>𝐈𝐍𝐅𝐎</p><br><p>Date: 28th of 
	May 2026<br><br>Time: 19.00 - 23.00<br><br>Location: Toekomstmuziek, Danzi
	gerbocht 29, Amsterdam<br><br>Entrance: Tickets</p>
BEGIN:VALARM
ACTION:DISPLAY
DESCRIPTION:Francesco Marcheselli & Friends Live in Concert
TRIGGER:-PT1H
END:VALARM
END:VEVENT
END:VCALENDAR
