BEGIN:VCALENDAR
VERSION:2.0
CALSCALE:GREGORIAN
PRODID:adamgibbons/ics
METHOD:PUBLISH
X-PUBLISHED-TTL:PT1H
BEGIN:VEVENT
UID:21221@offbeat.amsterdam
SUMMARY:FILMS WITH A VIEW | THE SALTH PATH (2024)
DTSTAMP:20260425T180153Z
DTSTART:20260526T191500Z
DESCRIPTION:OUTDOOR MOVIES AT PLLEK!\n\nCINEMA & SKYLINE: THE ULTIMATE MOVI
	E EXPERIENCE IN AMSTERDAM NOORD\nExperience the magic of Outdoor Cinema at
	 Pllek\, with the best view of the\nskyline of Amsterdam. Every Tuesday ev
	ening – until the end of September – we\nshow the most impressive\, moving
	 and controversial movies on our city beach on\nthe NDSM-wharf. On a beach
	 chair with a drink in your hand you’ll be sucked into\nthe big screen.\n\
	nStart movie 21:15 (at sunset)\n\n\nTHE SALT PATH (2024) AT PLLEK\n\nEngla
	nd\, present day. Raynor and Moth Winn suddenly lose everything: their hom
	e\,\ntheir security — and almost their hope — when a legal dispute leaves 
	them\nhomeless. As if that were not enough\, Moth (Jason Isaacs) receives 
	a terminal\ndiagnosis. With no other option\, Raynor (Gillian Anderson) an
	d Moth make an\nunlikely decision: they pack their backpacks and set out o
	n the more than\n1\,000-kilometre South West Coast Path\, from Minehead to
	 Poole. Step by step\,\nalong the breathtaking cliffs of Devon\, Cornwall 
	and Dorset\, they discover what\nit truly means to live. This true story o
	f unconditional love\, loss and human\nresilience is based on Raynor Winn’
	s bestselling memoir of the same name.\n\nGenre: Docudrama | Psychological
	 Drama | Tragedy | Drama\n\n\nIMPORTANT INFO\n\nPlease note: The film will
	 only take place if it is dry. We will provide\nsufficient seating\, bean 
	bags and blankets! On the day of the film\, around 1:00\nPM\, we will comm
	unicate on our channels Instagram\n[https://www.instagram.com/pllek_amster
	dam/] channel and the website\n[https://pllek.nl/en/agenda/] whether the f
	ilm will definitely take place.\n\nCosts are €10 p.p.\, tickets are availa
	ble via the ‘Ticket’ button.\n\nIf the film goes ahead\, it is not possibl
	e to cancel your ticket.\nTip: Sell your ticket via Ticket Swap.\n\nIf the
	 film is canceled\, you will receive an email and the purchase price of th
	e\ntickets will be refunded\, excluding service costs\n\nEnglish-language 
	films will be subtitled in Dutch\, all other spoken languages\nwill have E
	nglish subtitles\n\n(TIP) Coming early = Best spots\n\n🎥 Films With a View
	 is presented by Outdoor Cinema & Isolabella Limoncello\n\n\nIMPORTANT INF
	O\n\nPlease note: The film will only take place if it is dry. We will prov
	ide\nsufficient seating\, bean bags and blankets! On the day of the film\,
	 around 1:00\nPM\, we will communicate on our channels Instagram\n[https:/
	/www.instagram.com/pllek_amsterdam/] channel and the website\n[https://pll
	ek.nl/en/agenda/] whether the film will definitely take place.\n\nCosts ar
	e €10 p.p.\, tickets are available via the ‘Ticket’ button.\n\nIf the film
	 goes ahead\, it is not possible to cancel your ticket.\nTip: Sell your ti
	cket via Ticket Swap.\n\nIf the film is canceled\, you will receive an ema
	il and the purchase price of the\ntickets will be refunded\, excluding ser
	vice costs\n\nEnglish-language films will be subtitled in Dutch\, all othe
	r spoken languages\nwill have English subtitles\n\n(TIP) Coming early = Be
	st spots\n\n🎥 Films With a View is presented by Outdoor Cinema & Isolabell
	a Limoncello
URL:https://offbeat.amsterdam/event/films-with-a-view-or-the-salth-path-202
	4
GEO:52.3991339;4.8930985
LOCATION:Pllek - TT Neveritaweg 59\, 1033 WB Amsterdam
STATUS:CONFIRMED
CATEGORIES:amsterdam-noord,film,ndsm,stories
X-ALT-DESC;FMTTYPE=text/html:<h3>OUTDOOR MOVIES AT PLLEK!</h3> <p><strong>C
	INEMA &amp; SKYLINE: THE ULTIMATE MOVIE EXPERIENCE IN AMSTERDAM NOORD<br> 
	</strong>Experience the magic of Outdoor Cinema at Pllek, with the best vi
	ew of the skyline of Amsterdam. Every Tuesday evening – until the end of S
	eptember – we show the most impressive, moving and controversial movies on
	 our city beach on the NDSM-wharf. On a beach chair with a drink in your h
	and you’ll be sucked into the big screen.</p> <p><strong>Start movie </str
	ong>21:15 (at sunset)</p> <h3>THE SALT PATH (2024) AT PLLEK</h3> <p><stron
	g>England, present day.</strong> Raynor and Moth Winn suddenly lose everyt
	hing: their home, their security — and almost their hope — when a legal di
	spute leaves them homeless. As if that were not enough, Moth (Jason Isaacs
	) receives a terminal diagnosis. With no other option, Raynor (Gillian And
	erson) and Moth make an unlikely decision: they pack their backpacks and s
	et out on the more than 1,000-kilometre South West Coast Path, from Minehe
	ad to Poole. Step by step, along the breathtaking cliffs of Devon, Cornwal
	l and Dorset, they discover what it truly means to live. This true story o
	f unconditional love, loss and human resilience is based on Raynor Winn’s 
	bestselling memoir of the same name.</p> <p><strong>Genre:</strong> Docudr
	ama | Psychological Drama | Tragedy | Drama</p> <h3>IMPORTANT INFO</h3>  <
	p>Please note: The film will only take place if it is dry. We will provide
	 sufficient seating, bean bags and blankets! On the day of the film, aroun
	d 1:00 PM, we will communicate on our channels <a target="_blank" href="ht
	tps://www.instagram.com/pllek_amsterdam/">Instagram</a> channel and the <a
	 target="_blank" href="https://pllek.nl/en/agenda/">website</a> whether th
	e film will definitely take place.</p> <p><em>Costs are €10 p.p., tickets 
	are available via the ‘Ticket’ button.</em></p> <p>If the film goes ahead,
	 it is not possible to cancel your ticket.<br> Tip: Sell your ticket via T
	icket Swap.</p> <p>If the film is canceled, you will receive an email and 
	the purchase price of the tickets will be refunded, excluding service cost
	s</p> <p>English-language films will be subtitled in Dutch, all other spok
	en languages ​​will have English subtitles</p> <p><em><strong>(TIP) Coming
	 early = Best spots</strong></em></p>  <p><em>🎥 Films With a View is prese
	nted by Outdoor Cinema &amp; Isolabella Limoncello</em></p>  <h3>IMPORTANT
	 INFO</h3>  <p>Please note: The film will only take place if it is dry. We
	 will provide sufficient seating, bean bags and blankets! On the day of th
	e film, around 1:00 PM, we will communicate on our channels <a target="_bl
	ank" href="https://www.instagram.com/pllek_amsterdam/">Instagram</a> chann
	el and the <a target="_blank" href="https://pllek.nl/en/agenda/">website</
	a> whether the film will definitely take place.</p> <p><em>Costs are €10 p
	.p., tickets are available via the ‘Ticket’ button.</em></p> <p>If the fil
	m goes ahead, it is not possible to cancel your ticket.<br> Tip: Sell your
	 ticket via Ticket Swap.</p> <p>If the film is canceled, you will receive 
	an email and the purchase price of the tickets will be refunded, excluding
	 service costs</p> <p>English-language films will be subtitled in Dutch, a
	ll other spoken languages ​​will have English subtitles</p> <p><em><strong
	>(TIP) Coming early = Best spots</strong></em></p>  <p><em>🎥 Films With a 
	View is presented by Outdoor Cinema &amp; Isolabella Limoncello</em></p>
BEGIN:VALARM
ACTION:DISPLAY
DESCRIPTION:FILMS WITH A VIEW | THE SALTH PATH (2024)
TRIGGER:-PT1H
END:VALARM
END:VEVENT
END:VCALENDAR
