BEGIN:VCALENDAR
VERSION:2.0
CALSCALE:GREGORIAN
PRODID:adamgibbons/ics
METHOD:PUBLISH
X-PUBLISHED-TTL:PT1H
BEGIN:VEVENT
UID:21164@offbeat.amsterdam
SUMMARY:FILMS WITH A VIEW | LA VITA È BELLA (1997)
DTSTAMP:20260424T193845Z
DTSTART:20260505T193000Z
DESCRIPTION:FILMS WITH A VIEW\n\nCINEMA & SKYLINE: DE ULTIEME FILMERVARING 
	IN AMSTERDAM NOORD\nBeleef de magie van film in de openlucht bij Pllek\, m
	et het mooiste uitzicht op\nde skyline van Amsterdam. Elke dinsdagavond – 
	tot eind september – vertonen we\nde meest indrukwekkende\, ontroerende en
	 spraakmakende films op ons stadsstrand\naan de NDSM-werf. Geniet met je v
	oeten in het zand\, een drankje in de hand en\neen koptelefoon op\, zodat 
	je helemaal in de film wordt gezogen.\n\nStrand open / ophalen koptelefoon
	s | 19:00\nStart film | 21:30\nEinde film | 23:30\n\n\nLA VITA È BELLA BIJ
	 PLLEK\n\nLa vita è bella is een film over een Joodse vader die tijdens de
	 Holocaust zijn\nzoontje probeert te beschermen door alles voor te stellen
	 als een spel\, zodat\nhet kind de gruwelijke werkelijkheid niet doorheeft
	.\n\n\nBELANGRIJK OM TE WETEN\n\nLet op: De film gaat alleen door als het 
	droog is. Wij zorgen in ieder geval\nvoor voldoende zitplekken\, zitzakken
	 en dekentjes! Op de dag van de film\,\nomstreeks 13:00 uur\, communiceren
	 we op onze kanalen (Instagram\n[https://www.instagram.com/pllek_amsterdam
	/] en website\n[https://pllek.nl/en/agenda/]) of de film definitief doorga
	at. De film begint\nbij zonsondergang.\n\nKosten zijn €10 p.p.\, tickets z
	ijn verkrijgbaar via de ‘Ticket’-button.\n\nBij doorgang van de film is an
	nulering van je ticket niet mogelijk.\nKun je niet meer komen? Verkoop je 
	ticket via TicketSwap.\n\nBij annulering van de film ontvang je een mail e
	n wordt het aankoopbedrag van de\ntickets teruggestort excl. servicekosten
	\n\nEngelstalige films worden Nederlands ondertiteld\, alle andere gesprok
	en talen\nworden Engels ondertiteld.\n\n(TIP) Vroeg komen = Béste plekken\
	n\n🎥 Films With a View wordt mede mogelijk gemaakt door Outdoor Cinema &\n
	Isolabella Limoncello\n\nStrand open / ophalen koptelefoons | 19:00\nStart
	 film | 21:30\nEinde film | 23:30\n\n\nLA VITA È BELLA BIJ PLLEK\n\nLa vit
	a è bella is een film over een Joodse vader die tijdens de Holocaust zijn\
	nzoontje probeert te beschermen door alles voor te stellen als een spel\, 
	zodat\nhet kind de gruwelijke werkelijkheid niet doorheeft.
URL:https://offbeat.amsterdam/event/films-with-a-view-or-la-vita-e-bella-19
	97
GEO:52.3991339;4.8930985
LOCATION:Pllek - TT Neveritaweg 59\, 1033 WB Amsterdam
STATUS:CONFIRMED
CATEGORIES:amsterdam-noord,film,ndsm
X-ALT-DESC;FMTTYPE=text/html:<h3>FILMS WITH A VIEW</h3> <p><strong>CINEMA &
	amp; SKYLINE: DE ULTIEME FILMERVARING IN AMSTERDAM NOORD<br> </strong> Bel
	eef de magie van film in de openlucht bij Pllek, met het mooiste uitzicht 
	op de skyline van Amsterdam. Elke dinsdagavond – tot eind september – vert
	onen we de meest indrukwekkende, ontroerende en spraakmakende films op ons
	 stadsstrand aan de NDSM-werf. Geniet met je voeten in het zand, een drank
	je in de hand en een koptelefoon op, zodat je helemaal in de film wordt ge
	zogen.</p>      <p><strong>Strand open / ophalen koptelefoons | 19:00</str
	ong><br> <strong>Start film | 21:30<br> Einde film | 23:30</strong></p>   
	   <h3>LA VITA È BELLA BIJ PLLEK</h3> <p><em>La vita è bella</em> is een f
	ilm over een Joodse vader die tijdens de Holocaust zijn zoontje probeert t
	e beschermen door alles voor te stellen als een spel, zodat het kind de gr
	uwelijke werkelijkheid niet doorheeft.</p> <h3>BELANGRIJK OM TE WETEN</h3>
	  <p><em>Let op:</em> De film gaat alleen door als het droog is. Wij zorge
	n in ieder geval voor voldoende zitplekken, zitzakken en dekentjes! Op de 
	dag van de film, omstreeks 13:00 uur, communiceren we op onze kanalen (<a 
	target="_blank" href="https://www.instagram.com/pllek_amsterdam/">Instagra
	m</a> en <a target="_blank" href="https://pllek.nl/en/agenda/">website</a>
	) of de film definitief doorgaat. <strong><em>De film begint bij zonsonder
	gang.</em></strong></p> <p><em>Kosten zijn €10 p.p., tickets zijn verkrijg
	baar via de ‘Ticket’-button.</em></p> <p>Bij doorgang van de film is annul
	ering van je ticket niet mogelijk.<br> <em>Kun je niet meer komen? </em>Ve
	rkoop je ticket via TicketSwap.</p> <p>Bij annulering van de film ontvang 
	je een mail en wordt het aankoopbedrag van de tickets teruggestort excl. s
	ervicekosten</p> <p>Engelstalige films worden Nederlands ondertiteld, alle
	 andere gesproken talen worden Engels ondertiteld.</p> <p><em><strong>(TIP
	) Vroeg komen = Béste plekken</strong></em></p>  <p><em>🎥 Films With a Vie
	w wordt mede mogelijk gemaakt door Outdoor Cinema &amp; Isolabella Limonce
	llo</em></p>      <p><strong>Strand open / ophalen koptelefoons | 19:00</s
	trong><br> <strong>Start film | 21:30<br> Einde film | 23:30</strong></p> 
	   <h3>LA VITA È BELLA BIJ PLLEK</h3> <p><em>La vita è bella</em> is een f
	ilm over een Joodse vader die tijdens de Holocaust zijn zoontje probeert t
	e beschermen door alles voor te stellen als een spel, zodat het kind de gr
	uwelijke werkelijkheid niet doorheeft.</p>
BEGIN:VALARM
ACTION:DISPLAY
DESCRIPTION:FILMS WITH A VIEW | LA VITA È BELLA (1997)
TRIGGER:-PT1H
END:VALARM
END:VEVENT
END:VCALENDAR
