BEGIN:VCALENDAR
VERSION:2.0
CALSCALE:GREGORIAN
PRODID:adamgibbons/ics
METHOD:PUBLISH
X-PUBLISHED-TTL:PT1H
BEGIN:VEVENT
UID:21219@offbeat.amsterdam
SUMMARY:FILMS WITH A VIEW | 12 MONKEYS (1995)
DTSTAMP:20260425T180554Z
DTSTART:20260512T191500Z
DESCRIPTION:OUTDOOR MOVIES AT PLLEK!\n\nCINEMA & SKYLINE: THE ULTIMATE MOVI
	E EXPERIENCE IN AMSTERDAM NOORD\nExperience the magic of Outdoor Cinema at
	 Pllek\, with the best view of the\nskyline of Amsterdam. Every Tuesday ev
	ening – until the end of September – we\nshow the most impressive\, moving
	 and controversial movies on our city beach on\nthe NDSM-wharf. On a beach
	 chair with a drink in your hand you’ll be sucked into\nthe big screen.\n\
	nBeach open/pick-up headphones 19:45\nStart movie 21:15 (at sunset)\n\n\n1
	2 MONKEYS (1995) AT PLLEK\n\nThe year is 2035. Humanity has been forced to
	 live underground after a deadly\nvirus wiped out nearly the entire world 
	population in 1996. Prisoner James Cole\n(Bruce Willis) is sent back in ti
	me against his will to gather information about\nthe virus that devastated
	 the planet. In the past\, he ends up in a psychiatric\ninstitution\, wher
	e he meets the unstoppable and captivating Jeffrey Goines (Brad\nPitt): po
	ssibly the key to the mystery of the Army of the 12 Monkeys. As Cole\ndesp
	erately tries to save the future\, the line between reality and madness\nb
	egins to blur\, and human values such as hope\, trust\, and free will are 
	put to a\nrelentless test. Brad Pitt received a Golden Globe for his explo
	sive supporting\nrole!\n\nGenre: Psychological Thriller • Mystery • Dystop
	ian Sci-Fi • Dark Comedy\n\n\nIMPORTANT INFO\n\nPlease note: The film will
	 only take place if it is dry. We will provide\nsufficient seating\, bean 
	bags and blankets! On the day of the film\, around 1:00\nPM\, we will comm
	unicate on our channels Instagram\n[https://www.instagram.com/pllek_amster
	dam/] channel and the website\n[https://pllek.nl/en/agenda/] whether the f
	ilm will definitely take place.\n\nCosts are €10 p.p.\, tickets are availa
	ble via the ‘Ticket’ button.\n\nIf the film goes ahead\, it is not possibl
	e to cancel your ticket.\nTip: Sell your ticket via Ticket Swap.\n\nIf the
	 film is canceled\, you will receive an email and the purchase price of th
	e\ntickets will be refunded\, excluding service costs\n\nEnglish-language 
	films will be subtitled in Dutch\, all other spoken languages\nwill have E
	nglish subtitles\n\n(TIP) Coming early = Best spots\n\n🎥 Films With a View
	 is presented by Outdoor Cinema & Isolabella Limoncello\n\n\nIMPORTANT INF
	O\n\nPlease note: The film will only take place if it is dry. We will prov
	ide\nsufficient seating\, bean bags and blankets! On the day of the film\,
	 around 1:00\nPM\, we will communicate on our channels Instagram\n[https:/
	/www.instagram.com/pllek_amsterdam/] channel and the website\n[https://pll
	ek.nl/en/agenda/] whether the film will definitely take place.\n\nCosts ar
	e €10 p.p.\, tickets are available via the ‘Ticket’ button.\n\nIf the film
	 goes ahead\, it is not possible to cancel your ticket.\nTip: Sell your ti
	cket via Ticket Swap.\n\nIf the film is canceled\, you will receive an ema
	il and the purchase price of the\ntickets will be refunded\, excluding ser
	vice costs\n\nEnglish-language films will be subtitled in Dutch\, all othe
	r spoken languages\nwill have English subtitles\n\n(TIP) Coming early = Be
	st spots\n\n🎥 Films With a View is presented by Outdoor Cinema & Isolabell
	a Limoncello
URL:https://offbeat.amsterdam/event/films-with-a-view-or-12-monkeys-1995
GEO:52.3991339;4.8930985
LOCATION:Pllek - TT Neveritaweg 59\, 1033 WB Amsterdam
STATUS:CONFIRMED
CATEGORIES:amsterdam-noord,comedy,film,ndsm
X-ALT-DESC;FMTTYPE=text/html:<h3>OUTDOOR MOVIES AT PLLEK!</h3> <p><strong>C
	INEMA &amp; SKYLINE: THE ULTIMATE MOVIE EXPERIENCE IN AMSTERDAM NOORD<br> 
	</strong>Experience the magic of Outdoor Cinema at Pllek, with the best vi
	ew of the skyline of Amsterdam. Every Tuesday evening – until the end of S
	eptember – we show the most impressive, moving and controversial movies on
	 our city beach on the NDSM-wharf. On a beach chair with a drink in your h
	and you’ll be sucked into the big screen.</p> <p><strong>Beach open/pick-u
	p headphones</strong> 19:45<br> <strong>Start movie </strong>21:15 (at sun
	set)</p> <h3>12 MONKEYS (1995) AT PLLEK</h3>  <p><strong>The year is 2035.
	</strong> Humanity has been forced to live underground after a deadly viru
	s wiped out nearly the entire world population in 1996. Prisoner James Col
	e (Bruce Willis) is sent back in time against his will to gather informati
	on about the virus that devastated the planet. In the past, he ends up in 
	a psychiatric institution, where he meets the unstoppable and captivating 
	Jeffrey Goines (Brad Pitt): possibly the key to the mystery of the Army of
	 the 12 Monkeys. As Cole desperately tries to save the future, the line be
	tween reality and madness begins to blur, and human values such as hope, t
	rust, and free will are put to a relentless test. Brad Pitt received a Gol
	den Globe for his explosive supporting role!</p>  <p><strong>Genre:</stron
	g> Psychological Thriller • Mystery • Dystopian Sci-Fi • Dark Comedy</p> <
	h3>IMPORTANT INFO</h3>   <p>Please note: The film will only take place if 
	it is dry. We will provide sufficient seating, bean bags and blankets! On 
	the day of the film, around 1:00 PM, we will communicate on our channels <
	a target="_blank" href="https://www.instagram.com/pllek_amsterdam/">Instag
	ram</a> channel and the <a target="_blank" href="https://pllek.nl/en/agend
	a/">website</a> whether the film will definitely take place.</p> <p><em>Co
	sts are €10 p.p., tickets are available via the ‘Ticket’ button.</em></p> 
	<p>If the film goes ahead, it is not possible to cancel your ticket.<br> T
	ip: Sell your ticket via Ticket Swap.</p> <p>If the film is canceled, you 
	will receive an email and the purchase price of the tickets will be refund
	ed, excluding service costs</p> <p>English-language films will be subtitle
	d in Dutch, all other spoken languages ​​will have English subtitles</p> <
	p><em><strong>(TIP) Coming early = Best spots</strong></em></p>  <p><em>🎥 
	Films With a View is presented by Outdoor Cinema &amp; Isolabella Limoncel
	lo</em></p>   <h3>IMPORTANT INFO</h3>   <p>Please note: The film will only
	 take place if it is dry. We will provide sufficient seating, bean bags an
	d blankets! On the day of the film, around 1:00 PM, we will communicate on
	 our channels <a target="_blank" href="https://www.instagram.com/pllek_ams
	terdam/">Instagram</a> channel and the <a target="_blank" href="https://pl
	lek.nl/en/agenda/">website</a> whether the film will definitely take place
	.</p> <p><em>Costs are €10 p.p., tickets are available via the ‘Ticket’ bu
	tton.</em></p> <p>If the film goes ahead, it is not possible to cancel you
	r ticket.<br> Tip: Sell your ticket via Ticket Swap.</p> <p>If the film is
	 canceled, you will receive an email and the purchase price of the tickets
	 will be refunded, excluding service costs</p> <p>English-language films w
	ill be subtitled in Dutch, all other spoken languages ​​will have English 
	subtitles</p> <p><em><strong>(TIP) Coming early = Best spots</strong></em>
	</p>  <p><em>🎥 Films With a View is presented by Outdoor Cinema &amp; Isol
	abella Limoncello</em></p>
BEGIN:VALARM
ACTION:DISPLAY
DESCRIPTION:FILMS WITH A VIEW | 12 MONKEYS (1995)
TRIGGER:-PT1H
END:VALARM
END:VEVENT
END:VCALENDAR
