BEGIN:VCALENDAR
VERSION:2.0
CALSCALE:GREGORIAN
PRODID:adamgibbons/ics
METHOD:PUBLISH
X-PUBLISHED-TTL:PT1H
BEGIN:VEVENT
UID:21094@offbeat.amsterdam
SUMMARY:Fave
DTSTAMP:20260422T183600Z
DTSTART:20260628T173000Z
DESCRIPTION:From viral X freestyles to Grammy nominations\, FAVE is activel
	y reshaping the\nrules of Afropop. Her debut hit "Baby Riddim" reached num
	ber 1 and earned her\nthe “Rookie of the Year” award at the Headies. Her p
	oetic and emotional writing\nstyle makes her a unique artist in the scene.
	\n\nIn 2024\, FAVE received her first Grammy nomination for Kante with Dav
	ido. She\nalso achieved her first track with 100 million streams on Spotif
	y. In 2025\, she\nperformed on COLORS SHOW with Intentions\, giving a prev
	iew of her long-awaited\ndebut album.
URL:https://offbeat.amsterdam/event/fave-1
GEO:52.3647777;4.881073026725959
LOCATION:Melkweg - Lijnbaansgracht 234A\, 1017 PH Amsterdam
STATUS:CONFIRMED
CATEGORIES:afrobeats,afro pop,amsterdam-centrum,concert,leidseplein,r&b
X-ALT-DESC;FMTTYPE=text/html:<p>From viral X freestyles to Grammy nominatio
	ns, FAVE is actively reshaping the rules of Afropop. Her debut hit "Baby R
	iddim" reached number 1 and earned her the “Rookie of the Year” award at t
	he Headies. Her poetic and emotional writing style makes her a unique arti
	st in the scene.</p><p>In 2024, FAVE received her first Grammy nomination 
	for Kante with Davido. She also achieved her first track with 100 million 
	streams on Spotify. In 2025, she performed on COLORS SHOW with Intentions,
	 giving a preview of her long-awaited debut album.</p>
BEGIN:VALARM
ACTION:DISPLAY
DESCRIPTION:Fave
TRIGGER:-PT1H
END:VALARM
END:VEVENT
END:VCALENDAR
