BEGIN:VCALENDAR
VERSION:2.0
CALSCALE:GREGORIAN
PRODID:adamgibbons/ics
METHOD:PUBLISH
X-PUBLISHED-TTL:PT1H
BEGIN:VEVENT
UID:21070@offbeat.amsterdam
SUMMARY:Faouzia
DTSTAMP:20260421T224105Z
DTSTART:20260623T170000Z
DESCRIPTION:Faouzia is an internationally acclaimed singer-songwriter with 
	a powerful voice\nand a unique\, cinematic pop sound. She broke through wi
	th “Tears of Gold” and\nsubsequent hits like “RIP\, Love\,” while collabor
	ating with artists such as John\nLegend and David Guetta.\n\nIn 2024\, she
	 reached a millions-strong audience as a finalist in the show\n'Singer' an
	d grew into one of the most streamed international artists in China.\nWith
	 her independent album FILM NOIR\, she brings her own style fully to life:
	\nindirect\, powerful\, and headstrong.
URL:https://offbeat.amsterdam/event/faouzia
GEO:52.3647777;4.881073026725959
LOCATION:Melkweg - Lijnbaansgracht 234A\, 1017 PH Amsterdam
STATUS:CONFIRMED
CATEGORIES:alternative pop,amsterdam-centrum,concert,dream pop,leidseplein,
	pop noir
X-ALT-DESC;FMTTYPE=text/html:<p>Faouzia is an internationally acclaimed sin
	ger-songwriter with a powerful voice and a unique, cinematic pop sound. Sh
	e broke through with “Tears of Gold” and subsequent hits like “RIP, Love,”
	 while collaborating with artists such as John Legend and David Guetta.</p
	><p>In 2024, she reached a millions-strong audience as a finalist in the s
	how 'Singer' and grew into one of the most streamed international artists 
	in China. With her independent album FILM NOIR, she brings her own style f
	ully to life: indirect, powerful, and headstrong.</p>
BEGIN:VALARM
ACTION:DISPLAY
DESCRIPTION:Faouzia
TRIGGER:-PT1H
END:VALARM
END:VEVENT
END:VCALENDAR
