BEGIN:VCALENDAR
VERSION:2.0
CALSCALE:GREGORIAN
PRODID:adamgibbons/ics
METHOD:PUBLISH
X-PUBLISHED-TTL:PT1H
BEGIN:VEVENT
UID:21083@offbeat.amsterdam
SUMMARY:Explorative Performance Session - Revolution Celebration!
DTSTAMP:20260422T184306Z
DTSTART:20260425T180000Z
DESCRIPTION:Explorative Performance Session Vol. 3\nOn War & Images\n\nSpec
	ial Edition: Revolution Celebration!\nAnd it’s a Potluck!\n\nIn our two pr
	evious sessions we collectively explored how images and war are\nintrinsic
	ally connected and how these affect us and our lives on a daily basis.\nWe
	 did this by facilitating open and interactive sessions and by using\nmate
	rials\, words and practices provided by theatre practices.\n\nBut now it’s
	 time to celebrate! April 25th marks a moment of liberation\, at\nleast fo
	r some people. Thus\, this session’s practice will center on liberation\nf
	rom oppression and on celebrating revolutionary actions.\nAnd it’s a potlu
	ck\, so bring food and drinks to share!\n\n“In the dark times \nWill there
	 also be singing? \nYes\, there will also be singing.\nAbout the dark time
	s.” \n― Bertolt Brecht\n\n25 April 20:00\nAstaroTheatro\nSint Jansstraat 3
	7\nAmsterdam\nwww.astarotheatro.com [http://www.astarotheatro.com]\nwww.ou
	rfootsteps.nl [http://www.ourfootsteps.nl]\nEntrance by Donation
URL:https://offbeat.amsterdam/event/explorative-performance-session-revolut
	ion-celebration
GEO:52.3729667;4.8961117
LOCATION:AstaroTheatro - Sint Jansstraat 37\, 1012 HG Amsterdam
STATUS:CONFIRMED
CATEGORIES:amsterdam-centrum,course/workshop,discussion/presentation,food,o
	ude kerk,performance,theater
X-ALT-DESC;FMTTYPE=text/html:<p>Explorative Performance Session Vol. 3<br>O
	n War &amp; Images</p><br><p>Special Edition: Revolution Celebration!<br>A
	nd it’s a Potluck!</p><br><p>In our two previous sessions we collectively 
	explored how images and war are intrinsically connected and how these affe
	ct us and our lives on a daily basis.<br>We did this by facilitating open 
	and interactive sessions and by using materials, words and practices provi
	ded by theatre practices.</p><br><p>But now it’s time to celebrate! April 
	25th marks a moment of liberation, at least for some people. Thus, this se
	ssion’s practice will center on liberation from oppression and on celebrat
	ing revolutionary actions.<br>And it’s a potluck, so bring food and drinks
	 to share!</p><br><p>“In the dark times&nbsp;<br>Will there also be singin
	g?&nbsp;<br>Yes, there will also be singing.<br>About the dark times.”&nbs
	p;<br>― Bertolt Brecht</p><br><p>25 April 20:00<br>AstaroTheatro<br>Sint J
	ansstraat 37<br>Amsterdam<br><a href="http://www.astarotheatro.com">www.as
	tarotheatro.com</a><br><a href="http://www.ourfootsteps.nl">www.ourfootste
	ps.nl</a><br>Entrance by Donation</p>
BEGIN:VALARM
ACTION:DISPLAY
DESCRIPTION:Explorative Performance Session - Revolution Celebration!
TRIGGER:-PT1H
END:VALARM
END:VEVENT
END:VCALENDAR
